BEGIN:VCALENDAR
VERSION:2.0
PRODID:-//ChamberMaster//Event Calendar 2.0//EN
METHOD:PUBLISH
X-PUBLISHED-TTL:P3D
REFRESH-INTERVAL:P3D
CALSCALE:GREGORIAN
BEGIN:VEVENT
DTSTART:20231214T233000Z
DTEND:20231215T020000Z
X-MICROSOFT-CDO-ALLDAYEVENT:FALSE
SUMMARY:Young Professionals: Tacky Sweater Holiday Social
DESCRIPTION:Join us for our Holiday Social\, Tacky Sweater edition! We will be located in the upstairs room of The Bone & Barrel!\n\n\n\n*Event is catered | Cash Bar available!
X-ALT-DESC;FMTTYPE=text/html:Join us for our Holiday Social\, Tacky Sweater edition! We will be located in the upstairs room of The Bone &amp\; Barrel!<br />\n<br />\n*Event is catered | Cash Bar available!&nbsp\;
LOCATION:The Bone & Barrel (Upstairs Room) 311 Fairhope Ave\, Fairhope\, AL 36532
UID:e.1304.28536
SEQUENCE:3
DTSTAMP:20260421T061826Z
URL:http://easternshorechamber-gzcms.preview.gochambermaster.com/events/details/young-professionals-tacky-sweater-holiday-social-28536
END:VEVENT

END:VCALENDAR
