BEGIN:VCALENDAR
VERSION:2.0
PRODID:-//ChamberMaster//Event Calendar 2.0//EN
METHOD:PUBLISH
X-PUBLISHED-TTL:P3D
REFRESH-INTERVAL:P3D
CALSCALE:GREGORIAN
BEGIN:VEVENT
DTSTART:20230127T143000Z
DTEND:20230127T220000Z
X-MICROSOFT-CDO-ALLDAYEVENT:FALSE
SUMMARY:Young Professionals Summit 1-27-23
DESCRIPTION:Young Professional Summit
X-ALT-DESC;FMTTYPE=text/html:Young Professional Summit
LOCATION:The Grand Hotel Resort & Spa One Grand Blvd Point Clear\, AL 36564
UID:e.1304.26513
SEQUENCE:3
DTSTAMP:20260424T041502Z
URL:http://easternshorechamber-gzcms.preview.gochambermaster.com/events/details/young-professionals-summit-1-27-23-26513
END:VEVENT

END:VCALENDAR
