BEGIN:VCALENDAR
VERSION:2.0
PRODID:-//ChamberMaster//Event Calendar 2.0//EN
METHOD:PUBLISH
X-PUBLISHED-TTL:P3D
REFRESH-INTERVAL:P3D
CALSCALE:GREGORIAN
BEGIN:VEVENT
DTSTART:20230929T133000Z
DTEND:20230929T143000Z
X-MICROSOFT-CDO-ALLDAYEVENT:FALSE
SUMMARY:Young Professional Coffee Social @ Press & Co.
DESCRIPTION:Join us for our monthly Coffee Social at Press & Co. in Olde Towne Daphne!
X-ALT-DESC;FMTTYPE=text/html:Join us for our monthly Coffee Social at Press &amp\; Co. in Olde Towne Daphne!&nbsp\;
LOCATION:Press & Co. 711 Belrose Ave\, Daphne\, AL 36526
UID:e.1304.28072
SEQUENCE:3
DTSTAMP:20260422T014343Z
URL:http://easternshorechamber-gzcms.preview.gochambermaster.com/events/details/young-professional-coffee-social-press-co-28072
END:VEVENT

END:VCALENDAR
