BEGIN:VCALENDAR
VERSION:2.0
PRODID:-//ChamberMaster//Event Calendar 2.0//EN
METHOD:PUBLISH
X-PUBLISHED-TTL:P3D
REFRESH-INTERVAL:P3D
CALSCALE:GREGORIAN
BEGIN:VEVENT
DTSTART:20231210T170000Z
DTEND:20231210T210000Z
X-MICROSOFT-CDO-ALLDAYEVENT:FALSE
SUMMARY:Winter Outdoor Market at 5 Rivers
DESCRIPTION:Good Morning fans and patrons of our Outdoor Market at 5 Rivers Delta Resource Center! This Sunday\, December 10th\, from 11am - 3pm we will hold our Outdoor Market. Our Winter Outdoor Market will be huge with about 30 makers\, crafters\, artists\, and growers! Come get your holiday shopping done with unique gifts for all ages. Not only will we have great one of kind arts and crafts but\, we'll have a fantastic food option as Cousins Maine Lobster is our food truck for the day... warm lobster or cold - it's going to be delicious. Tell your family and friends that we look forward to seeing all of you here at 5 Rivers!
X-ALT-DESC;FMTTYPE=text/html:Good Morning fans and patrons of our Outdoor Market at 5 Rivers Delta Resource Center! This Sunday\, December 10th\, from 11am - 3pm we will hold our Outdoor Market. Our Winter Outdoor Market will be huge with about 30 makers\, crafters\, artists\, and growers! Come get your holiday shopping done with unique gifts for all ages. Not only will we have great one of kind arts and crafts but\, we&#39\;ll have a fantastic food option as Cousins Maine Lobster is our food truck for the day... warm lobster or cold - it&#39\;s going to be delicious. Tell your family and friends that we look forward to seeing all of you here at 5 Rivers!
LOCATION:5 Rivers Delta Resource Center 30945 Five Rivers Blvd. Spanish Fort\, AL 36527
UID:e.1304.28620
SEQUENCE:3
DTSTAMP:20260421T061926Z
URL:http://easternshorechamber-gzcms.preview.gochambermaster.com/events/details/winter-outdoor-market-at-5-rivers-28620
END:VEVENT

END:VCALENDAR
