BEGIN:VCALENDAR
VERSION:2.0
PRODID:-//ChamberMaster//Event Calendar 2.0//EN
METHOD:PUBLISH
X-PUBLISHED-TTL:P3D
REFRESH-INTERVAL:P3D
CALSCALE:GREGORIAN
BEGIN:VEVENT
DTSTART:20231118T150000Z
DTEND:20231118T180000Z
X-MICROSOFT-CDO-ALLDAYEVENT:FALSE
SUMMARY:Voyage to Twelve Mile Island
DESCRIPTION:Come along as we journey up to remote Twelve Mile Island\, a scenic area that is locally remembered as the site of two of the most dramatic and somber tragedies in regional history: the derailment of Amtrak's "Sunset Limited" in 1993 and the last documented importation of African slaves into the United States in 1860 aboard the Clotilda.
X-ALT-DESC;FMTTYPE=text/html:Come along as we journey up to remote Twelve Mile Island\, a scenic area that is locally remembered as the site of two of the most dramatic and somber tragedies in regional history: the derailment of Amtrak&rsquo\;s &ldquo\;Sunset Limited&rdquo\; in 1993 and the last documented importation of African slaves into the United States in 1860 aboard the Clotilda.
LOCATION:Bartram Landing at Five Rivers Delta Resource Center
UID:e.1304.28151
SEQUENCE:3
DTSTAMP:20260421T152327Z
URL:http://easternshorechamber-gzcms.preview.gochambermaster.com/events/details/voyage-to-twelve-mile-island-11-18-2023-28151
END:VEVENT

END:VCALENDAR
