BEGIN:VCALENDAR
VERSION:2.0
PRODID:-//ChamberMaster//Event Calendar 2.0//EN
METHOD:PUBLISH
X-PUBLISHED-TTL:P3D
REFRESH-INTERVAL:P3D
CALSCALE:GREGORIAN
BEGIN:VEVENT
DTSTART:20230826T203000Z
DTEND:20230826T213000Z
X-MICROSOFT-CDO-ALLDAYEVENT:FALSE
SUMMARY:Voyage Into the Tensaw Country
DESCRIPTION:Held in conjunction with the Reenactment of the Battle of Fort Mims\, this special excursion showcases several sites associated with the story of Fort Mims and the early American settlement of the river region\, including homesteads\, ferry crossings\, and the Old Federal Road. Departs from Holley Creek Landing near Fort Mims. The 12:30 cruise ONLY will offer bus service to and from the fort to Holley Creek Landing so that guests will be sure not to miss the reenactment at 2:00 PM. Must be at pick-up in front of fort at Noon.
X-ALT-DESC;FMTTYPE=text/html:Held in conjunction with the Reenactment of the Battle of Fort Mims\, this special excursion showcases several sites associated with the story of Fort Mims and the early American settlement of the river region\, including homesteads\, ferry crossings\, and the Old Federal Road. Departs from Holley Creek Landing near Fort Mims. The 12:30 cruise ONLY will offer bus service to and from the fort to Holley Creek Landing so that guests will be sure not to miss the reenactment at 2:00 PM. Must be at pick-up in front of fort at Noon.
LOCATION:Departs from Holley Creek Landing near Fort Mims
UID:e.1304.27717
SEQUENCE:3
DTSTAMP:20260422T052127Z
URL:http://easternshorechamber-gzcms.preview.gochambermaster.com/events/details/voyage-into-the-tensaw-country-08-26-2023-27717
END:VEVENT

END:VCALENDAR
