BEGIN:VCALENDAR
VERSION:2.0
PRODID:-//ChamberMaster//Event Calendar 2.0//EN
METHOD:PUBLISH
X-PUBLISHED-TTL:P3D
REFRESH-INTERVAL:P3D
CALSCALE:GREGORIAN
BEGIN:VEVENT
DTSTART:20220709T140000Z
DTEND:20220709T170000Z
X-MICROSOFT-CDO-ALLDAYEVENT:FALSE
SUMMARY:Upper Delta Cruise
DESCRIPTION:Join us aboard the Delta Explorer on July 9th for a unique voyage of exploration into the remote upper reaches of the scenic Mobile-Tensaw Delta. Departing from Live Oak Landing on the Tensaw River\, we venture up this storied waterway\, around the infamous "Devil's Bend\," and into famed Bottle Creek before journeying down the wild Middle River and returning to the Tensaw. These secluded regions of the vast Delta abound with wildlife and offer guests a chance to glimpse what many call "America's Amazon" in its most natural setting. University of South Alabama biologists Joel Borden will help guide our cruise and introduce guests to the amazing Delta habitat.
X-ALT-DESC;FMTTYPE=text/html:Join us aboard the Delta Explorer on July 9th for a unique voyage of exploration into the remote upper reaches of the scenic Mobile-Tensaw Delta. Departing from Live Oak Landing on the Tensaw River\, we venture up this storied waterway\, around the infamous &ldquo\;Devil&rsquo\;s Bend\,&rdquo\; and into famed Bottle Creek before journeying down the wild Middle River and returning to the Tensaw. These secluded regions of the vast Delta abound with wildlife and offer guests a chance to glimpse what many call &ldquo\;America&rsquo\;s Amazon&rdquo\; in its most natural setting. University of South Alabama biologists Joel Borden will help guide our cruise and introduce guests to the amazing Delta habitat.
LOCATION:Live Oak Landing
UID:e.1304.23720
SEQUENCE:3
DTSTAMP:20260424T221133Z
URL:http://easternshorechamber-gzcms.preview.gochambermaster.com/events/details/upper-delta-cruise-07-09-2022-23720
END:VEVENT

END:VCALENDAR
