BEGIN:VCALENDAR
VERSION:2.0
PRODID:-//ChamberMaster//Event Calendar 2.0//EN
METHOD:PUBLISH
X-PUBLISHED-TTL:P3D
REFRESH-INTERVAL:P3D
CALSCALE:GREGORIAN
BEGIN:VEVENT
DTSTART:20220611T220000Z
DTEND:20220612T030000Z
X-MICROSOFT-CDO-ALLDAYEVENT:FALSE
SUMMARY:Tunes and Tan Lines Music Fest feat. Dustin Lynch
DESCRIPTION:Grab tickets to Tunes and Tan Lines Music Fest featuring Dustin Lynch along with Bailey Zimmerman and Ella Langley.\n\n\n\n\n\n\n \n\n\n\n\n\n\nSat   June 11   Gates Open at 5pm   Concert starts at 6pm\n\n\n\n\n\n\n \n\n\n\n\n\n\nThis is a field concert in a grassy area. Guests may bring a blanket or towel for seating. Proceeds from the concert will benefit Reach and Teach. Tunes and Tan Lines Music Fest is an initiative of Reach and Teach\, a student-led program offered statewide in Alabama schools. This program teaches students the ins and outs of producing a concert.\n\n\n\n\n\n\n \n\n\n\n\n\n\nBuy Tickets Now!\n\n\n\n\n\n\n \n\n\n\n\n\n\n\n\n\n\n\n\nTicketing Options\n\n\n\n\n\nStarting at only $25++\, grab your tickets beginning April 29! | VIP Packages and Premium Parking available.\n\n\n\n\n\nGA Tickets   $25ea ++\n\nPremium Parking Add-On   $15ea ++\n\nVIP Tickets   $125ea ++
X-ALT-DESC;FMTTYPE=text/html:<div style="margin-left:auto\; margin-right:auto">\n<div>\n<div>\n<div>\n<div>\n<h2>Grab tickets to Tunes and Tan Lines Music Fest featuring Dustin Lynch along with Bailey Zimmerman and Ella Langley.</h2>\n</div>\n</div>\n\n<div>\n<div>\n<div>\n<div>&nbsp\;</div>\n</div>\n</div>\n</div>\n\n<div>\n<div>\n<h3>Sat &bull\; June 11 &bull\; Gates Open at 5pm &ndash\; Concert starts at 6pm</h3>\n</div>\n</div>\n\n<div>\n<div>\n<div>\n<div>&nbsp\;</div>\n</div>\n</div>\n</div>\n\n<div>\n<div>\n<p>This is a field concert in a grassy area. Guests may bring a blanket or towel for seating. Proceeds from the concert will benefit Reach and Teach. Tunes and Tan Lines Music Fest is an initiative of Reach and Teach\, a student-led program offered statewide in Alabama schools. This program teaches students the ins and outs of producing a concert.</p>\n</div>\n</div>\n\n<div>\n<div>\n<div>\n<div>&nbsp\;</div>\n</div>\n</div>\n</div>\n\n<div style="text-align:center">\n<div>\n<div><a class="elementor-button-link elementor-button elementor-size-sm" href="https://visitowa.com/?keyword=Concerts" style="box-sizing: border-box\; background-color: var( --e-global-color-secondary )\; color: rgb(255\, 255\, 255)\; text-decoration-line: none\; cursor: pointer\; display: inline-block\; line-height: 1em\; font-size: 17px\; padding: 13px 30px 12px\; border-radius: 100px\; fill: rgb(255\, 255\, 255)\; transition: all 0.3s ease 0s\; box-shadow: none\; width: auto\; font-family: &quot\;Museo Sans Rounded&quot\;\, sans-serif\; border-style: solid\; border-width: 0px\;">Buy Tickets Now!</a></div>\n</div>\n</div>\n\n<div>\n<div>\n<div>\n<div>&nbsp\;</div>\n</div>\n</div>\n</div>\n</div>\n</div>\n</div>\n\n<div style="margin-left:auto\; margin-right:auto">\n<div>\n<div>\n<div>\n<div>\n<h2>Ticketing Options</h2>\n</div>\n</div>\n\n<div>\n<div>\n<h3>Starting at only $25++\, grab your tickets beginning April 29! | VIP Packages and Premium Parking available.</h3>\n</div>\n</div>\n\n<div>\n<div>\n<p>GA Tickets&nbsp\;&mdash\; $25ea ++<br />\nPremium Parking Add-On&nbsp\;&mdash\; $15ea ++<br />\nVIP Tickets&nbsp\;&mdash\; $125ea ++</p>\n</div>\n</div>\n</div>\n</div>\n</div>\n\n<div style="margin-left:auto\; margin-right:auto">\n<div>\n<div>\n<div>\n<div>\n<div>&nbsp\;</div>\n</div>\n</div>\n</div>\n</div>\n</div>\n
LOCATION:1501 S. OWA Blvd. Foley\, AL. 36535
UID:e.1304.23583
SEQUENCE:3
DTSTAMP:20260425T033144Z
URL:http://easternshorechamber-gzcms.preview.gochambermaster.com/events/details/tunes-and-tan-lines-music-fest-feat-dustin-lynch-23583
END:VEVENT

END:VCALENDAR
