BEGIN:VCALENDAR
VERSION:2.0
PRODID:-//ChamberMaster//Event Calendar 2.0//EN
METHOD:PUBLISH
X-PUBLISHED-TTL:P3D
REFRESH-INTERVAL:P3D
CALSCALE:GREGORIAN
BEGIN:VEVENT
DTSTART:20221204T210000Z
DTEND:20221204T220000Z
X-MICROSOFT-CDO-ALLDAYEVENT:FALSE
SUMMARY:This Christmastide
DESCRIPTION:Eastern Shore Choral Society will perform the Alabama premier of an up and coming female composer Elaine Hagenberg entitled Illuminaire along with other Christmas favorites and a heartwarming carol sing-along.
X-ALT-DESC;FMTTYPE=text/html:<p><span style="color:rgb(94\, 94\, 94)\; font-family:open sans\,sans-serif">Eastern Shore Choral Society will perform the Alabama premier of an up and coming female composer Elaine Hagenberg entitled <em>Illuminaire</em> along with other Christmas favorites and a heartwarming carol sing-along.</span></p>\n
LOCATION:First Baptist Fairhope
UID:e.1304.26427
SEQUENCE:3
DTSTAMP:20260424T065024Z
URL:http://easternshorechamber-gzcms.preview.gochambermaster.com/events/details/this-christmastide-26427
END:VEVENT

END:VCALENDAR
