BEGIN:VCALENDAR
VERSION:2.0
PRODID:-//ChamberMaster//Event Calendar 2.0//EN
METHOD:PUBLISH
X-PUBLISHED-TTL:P3D
REFRESH-INTERVAL:P3D
CALSCALE:GREGORIAN
BEGIN:VEVENT
DTSTART:20220204T160000Z
DTEND:20220204T170000Z
X-MICROSOFT-CDO-ALLDAYEVENT:FALSE
SUMMARY:The Humanities in Alabama: History\, Natural History\, Folklife\, and the Arts Lecture Series
DESCRIPTION:Speaker Dr. Greg Waselkov (Professor Emeritus at University of South Alabama and author) will discuss Paleo-Indian Artifacts. He is author of Forging Southeastern Identities: Social Archaeology\, Ethnohistory\, and Folklore of the Mississippian to Early Historic South\, A Conquering Spirit: Fort Mims and the Redstick War of 1813 1814\, and more. This project is supported by the Alabama Humanities Alliance\, a state affiliate of the National Endowment for the Humanities.
X-ALT-DESC;FMTTYPE=text/html:Speaker Dr. Greg Waselkov (Professor Emeritus at University of South Alabama and author) will discuss Paleo-Indian Artifacts. He is author of Forging Southeastern Identities: Social Archaeology\, Ethnohistory\, and Folklore of the Mississippian to Early Historic South\, A Conquering Spirit: Fort Mims and the Redstick War of 1813&ndash\;1814\, and more. This project is supported by the Alabama Humanities Alliance\, a state affiliate of the National Endowment for the Humanities.
LOCATION:Willow Room in the Daphne Civic Center at Highway 98 and Whispering Pines Road.
UID:e.1304.22938
SEQUENCE:3
DTSTAMP:20260425T104535Z
URL:http://easternshorechamber-gzcms.preview.gochambermaster.com/events/details/the-humanities-in-alabama-history-natural-history-folklife-and-the-arts-lecture-series-02-04-2022-22938
END:VEVENT

END:VCALENDAR
