BEGIN:VCALENDAR
VERSION:2.0
PRODID:-//ChamberMaster//Event Calendar 2.0//EN
METHOD:PUBLISH
X-PUBLISHED-TTL:P3D
REFRESH-INTERVAL:P3D
CALSCALE:GREGORIAN
BEGIN:VEVENT
DTSTART:20230922T150000Z
DTEND:20230922T210000Z
X-MICROSOFT-CDO-ALLDAYEVENT:FALSE
SUMMARY:The Hope Farm - The Scout Guide Pop-Up Shop
DESCRIPTION:Join us at The Hope Farm at The Scout Guide Pop-Up Shop\, where vendors will set up shop and the public can browse - free to attend!
X-ALT-DESC;FMTTYPE=text/html:Join us at The Hope Farm at The Scout Guide Pop-Up Shop\, where vendors will set up shop and the public can browse - free to attend!
LOCATION:The Hope Farm 915 Nichols Avenue Fairhope\, Alabama 36532
UID:e.1304.27986
SEQUENCE:3
DTSTAMP:20260422T014321Z
URL:http://easternshorechamber-gzcms.preview.gochambermaster.com/events/details/the-hope-farm-the-scout-guide-pop-up-shop-27986
END:VEVENT

END:VCALENDAR
