BEGIN:VCALENDAR
VERSION:2.0
PRODID:-//ChamberMaster//Event Calendar 2.0//EN
METHOD:PUBLISH
X-PUBLISHED-TTL:P3D
REFRESH-INTERVAL:P3D
CALSCALE:GREGORIAN
BEGIN:VEVENT
DTSTART:20221209T000000Z
DTEND:20221209T030000Z
X-MICROSOFT-CDO-ALLDAYEVENT:FALSE
SUMMARY:The Chocolate Affair
DESCRIPTION:Join Family Promise for A Night of Promises Kept. There will be heavy Hors d'oeuvres\, decadent desserts\, music by "Bo" Grant\, silent auction\, and a live "fund the mission" auction. Dress is semi-formal.
X-ALT-DESC;FMTTYPE=text/html:Join Family Promise for A Night of Promises Kept. There will be heavy Hors d&#39\;oeuvres\, decadent desserts\, music by &quot\;Bo&quot\; Grant\, silent auction\, and a live &quot\;fund the mission&quot\; auction. Dress is semi-formal.
LOCATION:Daphne Civic Center\, 2603 US Hwy 98\, Daphne\, AL 36526
UID:e.1304.26487
SEQUENCE:3
DTSTAMP:20260424T054753Z
URL:http://easternshorechamber-gzcms.preview.gochambermaster.com/events/details/the-chocolate-affair-26487
END:VEVENT

END:VCALENDAR
