BEGIN:VCALENDAR
VERSION:2.0
PRODID:-//ChamberMaster//Event Calendar 2.0//EN
METHOD:PUBLISH
X-PUBLISHED-TTL:P3D
REFRESH-INTERVAL:P3D
CALSCALE:GREGORIAN
BEGIN:VEVENT
DTSTART:20230131T233000Z
DTEND:20230201T013000Z
X-MICROSOFT-CDO-ALLDAYEVENT:FALSE
SUMMARY:The Academy at the Fairhope Airport Open House
DESCRIPTION:You are invited to an Open House at The Academy at the Fairhope Airport on January 31\, 2023. Guest will be welcomed at 5:30PM and the Program Information and tours will start at 5:45PM. The programs available at The Academy include aviation\, welding\, electrical and instrumentation for students in grades 10\, 11\, and 12.
X-ALT-DESC;FMTTYPE=text/html:You are invited to an Open House at The Academy at the Fairhope Airport on January 31\, 2023. Guest will be welcomed at 5:30PM and the Program Information and tours will start at 5:45PM. The programs available at The Academy include aviation\, welding\, electrical and instrumentation for students in grades 10\, 11\, and 12.
LOCATION:Fairhope Airport\, County Road 32\, Fairhope\, AL
UID:e.1304.26660
SEQUENCE:3
DTSTAMP:20260424T041409Z
URL:http://easternshorechamber-gzcms.preview.gochambermaster.com/events/details/the-academy-at-the-fairhope-airport-open-house-26660
END:VEVENT

END:VCALENDAR
