BEGIN:VCALENDAR
VERSION:2.0
PRODID:-//ChamberMaster//Event Calendar 2.0//EN
METHOD:PUBLISH
X-PUBLISHED-TTL:P3D
REFRESH-INTERVAL:P3D
CALSCALE:GREGORIAN
BEGIN:VEVENT
DTSTART:20230305T200000Z
DTEND:20230305T220000Z
X-MICROSOFT-CDO-ALLDAYEVENT:FALSE
SUMMARY:Swan Soiree - Mobile Ballet
DESCRIPTION:Mobile Ballet will present the Swan Soir e on Sunday\, March 5\, 2:00-4:00pm\, at The Venue in Fairhope. At this fun Sunday afternoon tea\, guests will get to meet Mobile Ballet dancers performing in the upcoming Swan Lake ballet production\, see a short performance from the show\, get to hear the story of The Swan Princess read aloud\, enjoy fun themed snacks\, and play dress up with costume props for photos. Parents can participate along with their little ones\, and discover unique and fun items at our Silent Auction! Children of all ages (3+) are welcome and will enjoy the event   boys and girls! Presented by the Mobile Ballet Barre volunteer association\, this special event raises funds for the Relev  Project\, Mobile Ballet's tuition assistance program established to help reduce the financial burdens that prevent children from accessing dance training. Seating is limited. Tickets are $25 per person\, and must be purchased in advance. Get more info and purchase tickets at www.mobileballet.org/swan-soiree
X-ALT-DESC;FMTTYPE=text/html:Mobile Ballet will present the Swan Soir&eacute\;e on Sunday\, March 5\, 2:00-4:00pm\, at The Venue in Fairhope. At this fun Sunday afternoon tea\, guests will get to meet Mobile Ballet dancers performing in the upcoming Swan Lake ballet production\, see a short performance from the show\, get to hear the story of The Swan Princess read aloud\, enjoy fun themed snacks\, and play dress up with costume props for photos. Parents can participate along with their little ones\, and discover unique and fun items at our Silent Auction! Children of all ages (3+) are welcome and will enjoy the event &mdash\; boys and girls! Presented by the Mobile Ballet Barre volunteer association\, this special event raises funds for the Relev&eacute\; Project\, Mobile Ballet&rsquo\;s tuition assistance program established to help reduce the financial burdens that prevent children from accessing dance training. Seating is limited. Tickets are $25 per person\, and must be purchased in advance. Get more info and purchase tickets at www.mobileballet.org/swan-soiree
LOCATION:The Venue\, 105 South Section Street\, Fairhope
UID:e.1304.27295
SEQUENCE:3
DTSTAMP:20260423T171313Z
URL:http://easternshorechamber-gzcms.preview.gochambermaster.com/events/details/swan-soiree-mobile-ballet-27295
END:VEVENT

END:VCALENDAR
