BEGIN:VCALENDAR
VERSION:2.0
PRODID:-//ChamberMaster//Event Calendar 2.0//EN
METHOD:PUBLISH
X-PUBLISHED-TTL:P3D
REFRESH-INTERVAL:P3D
CALSCALE:GREGORIAN
BEGIN:VEVENT
DTSTART:20231029T230000Z
DTEND:20231030T020000Z
X-MICROSOFT-CDO-ALLDAYEVENT:FALSE
SUMMARY:Sunday Supper Series - Tapas
DESCRIPTION:Grab a seat at our family-style table for the October Sunday Supper at The Barn! The theme for the evening is "Tapas" with a curated menu by our executive chef\, Adam Stephens. Seating is limited so don't wait\, make your reservation with us today!
X-ALT-DESC;FMTTYPE=text/html:<p>Grab a seat at our family-style table for the October Sunday Supper at The Barn!&nbsp\;The theme for the evening is<strong>&nbsp\;</strong>&ldquo\;Tapas&rdquo\;&nbsp\;with a curated menu by our executive chef\, Adam Stephens. Seating is limited so don&rsquo\;t wait\, make your reservation with us today!</p>\n
LOCATION:The Barn at The Hope Farm
UID:e.1304.28121
SEQUENCE:3
DTSTAMP:20260421T204323Z
URL:http://easternshorechamber-gzcms.preview.gochambermaster.com/events/details/sunday-supper-series-tapas-28121
END:VEVENT

END:VCALENDAR
