BEGIN:VCALENDAR
VERSION:2.0
PRODID:-//ChamberMaster//Event Calendar 2.0//EN
METHOD:PUBLISH
X-PUBLISHED-TTL:P3D
REFRESH-INTERVAL:P3D
CALSCALE:GREGORIAN
BEGIN:VEVENT
DTSTART:20240603T190000Z
DTEND:20240612T230000Z
X-MICROSOFT-CDO-ALLDAYEVENT:FALSE
SUMMARY:Summer Strings in Fairhope
DESCRIPTION:BEGINNING STRINGS: Learn how to play a string instrument during summer and develop new skills under the expert guidance of a professional string teacher artist. Make new friends\, discover the secrets of your instrument\, learn new music\, and just have fun playing in an orchestra! For elementary or middle school students wanting to learn how to play the violin\, viola\, cello or string bass . No experience necessary. SUMMER STRINGS - Keep playing your instrument during summer and learn new skills under the expert guidance of a professional string teacher artist. Make new friends\, discover the secrets of your instrument\, learn new music\, and just have fun playing in an orchestra!
X-ALT-DESC;FMTTYPE=text/html:BEGINNING STRINGS: Learn how to play a string instrument during summer and develop new skills under the expert guidance of a professional string teacher artist. Make new friends\, discover the secrets of your instrument\, learn new music\, and just have fun playing in an orchestra! For elementary or middle school students wanting to learn how to play the violin\, viola\, cello or string bass . No experience necessary. SUMMER STRINGS - Keep playing your instrument during summer and learn new skills under the expert guidance of a professional string teacher artist. Make new friends\, discover the secrets of your instrument\, learn new music\, and just have fun playing in an orchestra!
LOCATION:Fairhope Unitarian Fellowship St. Lawrence Parish\, Fairhope
UID:e.1304.30102
SEQUENCE:3
DTSTAMP:20260420T021025Z
URL:http://easternshorechamber-gzcms.preview.gochambermaster.com/events/details/summer-strings-in-fairhope-06-03-2024-30102
END:VEVENT

END:VCALENDAR
