BEGIN:VCALENDAR
VERSION:2.0
PRODID:-//ChamberMaster//Event Calendar 2.0//EN
METHOD:PUBLISH
X-PUBLISHED-TTL:P3D
REFRESH-INTERVAL:P3D
CALSCALE:GREGORIAN
BEGIN:VEVENT
DTSTART:20240423T223000Z
DTEND:20240424T003000Z
X-MICROSOFT-CDO-ALLDAYEVENT:FALSE
SUMMARY:Studio Open House
DESCRIPTION:Hey Friends! Since I rebranded last year from Goodie & Smith Weddings to Ellison Smith Creative\, I have wanted to gather all my vendor and small business friends together. I am excited to do a vendor open house at the studio! Come meet & visit with other wedding vendors and small business owners. There will be snacks and champagne AND a chance to win a free branding session!
X-ALT-DESC;FMTTYPE=text/html:Hey Friends! Since I rebranded last year from Goodie &amp\; Smith Weddings to Ellison Smith Creative\, I have wanted to gather all my vendor and small business friends together. I am excited to do a vendor open house at the studio! Come meet &amp\; visit with other wedding vendors and small business owners. There will be snacks and champagne AND a chance to win a free branding session!
LOCATION:7124 Stone Dr.\, Suite A\, Daphne\, AL
UID:e.1304.30111
SEQUENCE:3
DTSTAMP:20260420T180808Z
URL:http://easternshorechamber-gzcms.preview.gochambermaster.com/events/details/studio-open-house-30111
END:VEVENT

END:VCALENDAR
