BEGIN:VCALENDAR
VERSION:2.0
PRODID:-//ChamberMaster//Event Calendar 2.0//EN
METHOD:PUBLISH
X-PUBLISHED-TTL:P3D
REFRESH-INTERVAL:P3D
CALSCALE:GREGORIAN
BEGIN:VEVENT
DTSTART:20230126T230000Z
DTEND:20230127T010000Z
X-MICROSOFT-CDO-ALLDAYEVENT:FALSE
SUMMARY:State of the City Expo
DESCRIPTION:Fairhope Mayor Sherry Sullivan will give her State of the City address at the Fairhope Civic Center on Thursday\, January 26th from 5:00 p.m. to 7:00 p.m. Join your city leaders and city departments for an interactive\, all-access event. City Departments will have tables and booths set up to show off the City's services and accomplishments in the past year. Mayor Sullivan will make remarks at 5:30 p.m. Hear about each City department's plans for 2023 and ask your questions in this casual forum. Giveaways will be featured\, and a light dinner will be provided at the event.
X-ALT-DESC;FMTTYPE=text/html:Fairhope Mayor Sherry Sullivan will give her State of the City address at the Fairhope Civic Center on Thursday\, January 26th from 5:00 p.m. to 7:00 p.m. Join your city leaders and city departments for an interactive\, all-access event. City Departments will have tables and booths set up to show off the City&rsquo\;s services and accomplishments in the past year. Mayor Sullivan will make remarks at 5:30 p.m. Hear about each City department&#39\;s plans for 2023 and ask your questions in this casual forum. Giveaways will be featured\, and a light dinner will be provided at the event.
LOCATION:Fairhope Civic Center\, 161 N. Section Street\, Fairhope\, AL
UID:e.1304.26638
SEQUENCE:3
DTSTAMP:20260424T041408Z
URL:http://easternshorechamber-gzcms.preview.gochambermaster.com/events/details/state-of-the-city-expo-01-26-2023-26638
END:VEVENT

END:VCALENDAR
