BEGIN:VCALENDAR
VERSION:2.0
PRODID:-//ChamberMaster//Event Calendar 2.0//EN
METHOD:PUBLISH
X-PUBLISHED-TTL:P3D
REFRESH-INTERVAL:P3D
CALSCALE:GREGORIAN
BEGIN:VEVENT
DTSTART:20221016T200000Z
DTEND:20221016T210000Z
X-MICROSOFT-CDO-ALLDAYEVENT:FALSE
SUMMARY:St. Francis at the Point Concert Series - Eastbay Quintet
DESCRIPTION:The local Eastbay Quintet will be performing a wide variety of Classical music selections for your enjoyment. Members have experience playing with a number of respected ensembles including the Mobile Symphony Orchestra\, the Pensacola Symphony Orchestra\, the Gulf Coast Symphony\, the Dallas Wind Symphony\, the Magnolia Chamber Orchestra\, and the Baldwin Pops. Guest artist is pianist\, Benjamin Rollings\, [performing Mozart with the group.
X-ALT-DESC;FMTTYPE=text/html:The local Eastbay Quintet will be performing a wide variety of Classical music selections for your enjoyment. Members have experience playing with a number of respected ensembles including the Mobile Symphony Orchestra\, the Pensacola Symphony Orchestra\, the Gulf Coast Symphony\, the Dallas Wind Symphony\, the Magnolia Chamber Orchestra\, and the Baldwin Pops. Guest artist is pianist\, Benjamin Rollings\, [performing Mozart with the group.
LOCATION:St. Francis at the Point Anglican Church\, in the Sanctuary\, 17280 Scenic Hwy 98\, Point Clear\, AL
UID:e.1304.26380
SEQUENCE:3
DTSTAMP:20260424T112757Z
URL:http://easternshorechamber-gzcms.preview.gochambermaster.com/events/details/st-francis-at-the-point-concert-series-eastbay-quintet-26380
END:VEVENT

END:VCALENDAR
