BEGIN:VCALENDAR
VERSION:2.0
PRODID:-//ChamberMaster//Event Calendar 2.0//EN
METHOD:PUBLISH
X-PUBLISHED-TTL:P3D
REFRESH-INTERVAL:P3D
CALSCALE:GREGORIAN
BEGIN:VEVENT
DTSTART:20240323T150000Z
DTEND:20240323T210000Z
X-MICROSOFT-CDO-ALLDAYEVENT:FALSE
SUMMARY:Spring Festival
DESCRIPTION:Shorty's Safe Haven Youth Equine Assisted Therapy Program is hosting a Spring Festival.  Free General Admission. Easter Egg Hunts (Noon & 2 PM)-bring your own basket!\n\nLocal Vendors\, Pictures with the Easter Bunny\, Pony rides\, Silent auction\, bounce houses\, hay rides\, food trucks\, Used Horse tack sale
X-ALT-DESC;FMTTYPE=text/html:Shorty&#39\;s Safe Haven Youth Equine Assisted Therapy Program is hosting a Spring Festival.&nbsp\; Free General Admission. Easter Egg Hunts (Noon &amp\; 2 PM)-bring your own basket!<br />\nLocal Vendors\, Pictures with the Easter Bunny\, Pony rides\, Silent auction\, bounce houses\, hay rides\, food trucks\, Used Horse tack sale
LOCATION:Shorty's Safe Haven\, 12866 US-98\, Foley\, AL 36535
UID:e.1304.30015
SEQUENCE:3
DTSTAMP:20260420T193644Z
URL:http://easternshorechamber-gzcms.preview.gochambermaster.com/events/details/spring-festival-30015
END:VEVENT

END:VCALENDAR
