BEGIN:VCALENDAR
VERSION:2.0
PRODID:-//ChamberMaster//Event Calendar 2.0//EN
METHOD:PUBLISH
X-PUBLISHED-TTL:P3D
REFRESH-INTERVAL:P3D
CALSCALE:GREGORIAN
BEGIN:VEVENT
DTSTART:20211024T180000Z
DTEND:20211024T210000Z
X-MICROSOFT-CDO-ALLDAYEVENT:FALSE
SUMMARY:South Alabama Out of the Darkness Community Walk (2021)
DESCRIPTION:Walk to fight suicide. The Out of the Darkness Experience is a journey of remembrance\, hope\, and support. It unites our communities and provides an opportunity to acknowledge the ways in which suicide and mental illness have affected our lives and the lives of those we love and care about.
X-ALT-DESC;FMTTYPE=text/html:Walk to fight suicide. The Out of the Darkness Experience is a journey of remembrance\, hope\, and support. It unites our communities and provides an opportunity to acknowledge the ways in which suicide and mental illness have affected our lives and the lives of those we love and care about.
LOCATION:Daphne City Hall\, Main Street\, Daphne\, AL
UID:e.1304.22538
SEQUENCE:3
DTSTAMP:20260426T014358Z
URL:http://easternshorechamber-gzcms.preview.gochambermaster.com/events/details/south-alabama-out-of-the-darkness-community-walk-2021-22538
END:VEVENT

END:VCALENDAR
