BEGIN:VCALENDAR
VERSION:2.0
PRODID:-//ChamberMaster//Event Calendar 2.0//EN
METHOD:PUBLISH
X-PUBLISHED-TTL:P3D
REFRESH-INTERVAL:P3D
CALSCALE:GREGORIAN
BEGIN:VEVENT
DTSTART:20231027T133000Z
DTEND:20231027T153000Z
X-MICROSOFT-CDO-ALLDAYEVENT:FALSE
SUMMARY:Smart Business Academy: Toastmasters\, Public Speaking
DESCRIPTION:Smart Business Academy: Toastmaster\, Public Speaking\n\n \n\nDoes the thought of speaking in front of a group make you anxious? If so\, you are not alone\, as it is believed that fear of public speaking affects up to 75% of the population.\n\n \n\nWhether you regularly speak in front of colleagues or want to be able to concisely explain your business to a stranger in an impromptu moment\, Toastmasters can help.  If you want to become better at making a presentation at work or in your personal life\, Toastmasters can help.  If you want to be a better leader\, Toastmasters will help you.\n\n \n\nToastmasters is designed to improve public speaking and your communication ability\, which will enhance leadership skills.  Join us to get some tips on being a better speaker and then practice the tips you've learned. You will hear from those who have experienced the value of Toastmasters and learn how it can help you!
X-ALT-DESC;FMTTYPE=text/html:Smart Business Academy: Toastmaster\, Public Speaking<br />\n&nbsp\;\n<div style="border: 0px\; font-variant-numeric: inherit\; font-variant-east-asian: inherit\; font-variant-alternates: inherit\; font-stretch: inherit\; font-size: 12pt\; line-height: inherit\; font-family: Aptos\, Aptos_EmbeddedFont\, Aptos_MSFontService\, Calibri\, Helvetica\, sans-serif\; font-optical-sizing: inherit\; font-kerning: inherit\; font-feature-settings: inherit\; font-variation-settings: inherit\; margin: 0px\; padding: 0px\; vertical-align: baseline\; color: black\;">\n<p style="font-size: 11pt\; font-family: Calibri\, sans-serif\; margin: 0px\; box-sizing: border-box\;"><span style="font-weight: bolder\; box-sizing: border-box\;"><span style="border: 0px\; font-style: inherit\; font-variant: inherit\; font-weight: inherit\; font-stretch: inherit\; font-size: inherit\; line-height: inherit\; font-family: Arial\, sans-serif\; font-optical-sizing: inherit\; font-kerning: inherit\; font-feature-settings: inherit\; font-variation-settings: inherit\; margin: 0px\; padding: 0px\; vertical-align: baseline\; color: rgb(32\, 33\, 36)\; box-sizing: border-box\;">Does the thought of speaking in front of a group make you anxious?&nbsp\;If so\, you are not alone\, as it is believed that fear of public speaking affects up to 75% of the population.</span></span></p>\n\n<p style="font-size: 11pt\; font-family: Calibri\, sans-serif\; margin: 0px\; box-sizing: border-box\;"><span style="font-weight: bolder\; box-sizing: border-box\;"><span style="border: 0px\; font-style: inherit\; font-variant: inherit\; font-weight: inherit\; font-stretch: inherit\; font-size: inherit\; line-height: inherit\; font-family: Arial\, sans-serif\; font-optical-sizing: inherit\; font-kerning: inherit\; font-feature-settings: inherit\; font-variation-settings: inherit\; margin: 0px\; padding: 0px\; vertical-align: baseline\; color: rgb(32\, 33\, 36)\; box-sizing: border-box\;">&nbsp\;</span></span></p>\n\n<p style="font-size: 11pt\; font-family: Calibri\, sans-serif\; margin: 0px\; box-sizing: border-box\;"><span style="font-weight: bolder\; box-sizing: border-box\;"><span style="border: 0px\; font-style: inherit\; font-variant: inherit\; font-weight: inherit\; font-stretch: inherit\; font-size: inherit\; line-height: inherit\; font-family: Arial\, sans-serif\; font-optical-sizing: inherit\; font-kerning: inherit\; font-feature-settings: inherit\; font-variation-settings: inherit\; margin: 0px\; padding: 0px\; vertical-align: baseline\; color: rgb(32\, 33\, 36)\; box-sizing: border-box\;">Whether you regularly speak in front of colleagues or want to be able to concisely explain your business to a stranger in an impromptu moment\, Toastmasters can help.&nbsp\; If you want to become&nbsp\;better at making a presentation at work or in your personal life\, Toastmasters can help.&nbsp\; If you want to be a better leader\, Toastmasters will help you.</span></span></p>\n\n<p style="font-size: 11pt\; font-family: Calibri\, sans-serif\; margin: 0px 0px 8pt\; line-height: 11.75pt\; box-sizing: border-box\;"><span style="font-weight: bolder\; box-sizing: border-box\;"><span style="border: 0px\; font-style: inherit\; font-variant: inherit\; font-weight: inherit\; font-stretch: inherit\; font-size: inherit\; line-height: inherit\; font-family: Arial\, sans-serif\; font-optical-sizing: inherit\; font-kerning: inherit\; font-feature-settings: inherit\; font-variation-settings: inherit\; margin: 0px\; padding: 0px\; vertical-align: baseline\; color: inherit\; box-sizing: border-box\;">&nbsp\;</span></span></p>\n\n<p style="font-size: 11pt\; font-family: Calibri\, sans-serif\; margin: 0px 0px 8pt\; line-height: 11.75pt\; box-sizing: border-box\;"><span style="font-weight: bolder\; box-sizing: border-box\;"><span style="border: 0px\; font-style: inherit\; font-variant: inherit\; font-weight: inherit\; font-stretch: inherit\; font-size: inherit\; line-height: inherit\; font-family: Arial\, sans-serif\; font-optical-sizing: inherit\; font-kerning: inherit\; font-feature-settings: inherit\; font-variation-settings: inherit\; margin: 0px\; padding: 0px\; vertical-align: baseline\; color: inherit\; box-sizing: border-box\;">Toastmasters is designed to improve public speaking and your communication ability\, which&nbsp\;will enhance leadership skills.&nbsp\; Join us to get some tips on being a better speaker and then practice the tips you&#39\;ve learned. You will hear from those who have experienced&nbsp\;the value of Toastmasters and learn how it can help you!</span></span></p>\n</div>\n<br />\n&nbsp\;
LOCATION:Bryant Bank (Community Room) 1801 US-98\, Daphne\, AL 36526
UID:e.1304.28127
SEQUENCE:3
DTSTAMP:20260421T223331Z
URL:http://easternshorechamber-gzcms.preview.gochambermaster.com/events/details/smart-business-academy-toastmasters-public-speaking-28127
END:VEVENT

END:VCALENDAR
