BEGIN:VCALENDAR
VERSION:2.0
PRODID:-//ChamberMaster//Event Calendar 2.0//EN
METHOD:PUBLISH
X-PUBLISHED-TTL:P3D
REFRESH-INTERVAL:P3D
CALSCALE:GREGORIAN
BEGIN:VEVENT
DTSTART:20210916T223000Z
DTEND:20210917T003000Z
X-MICROSOFT-CDO-ALLDAYEVENT:FALSE
SUMMARY:Small Business Mixer
DESCRIPTION:BancorpSouth will be hosting a Small Business Mixer for those interested in starting their own business but don't know where to begin. This event is a small business mixer to assist in starting or growing a small business. Refreshments will be served.
X-ALT-DESC;FMTTYPE=text/html:BancorpSouth will be hosting a Small Business Mixer for those interested in starting their own business but don&#39\;t know where to begin. This event is a small business mixer to assist in starting or growing a small business. Refreshments will be served.
LOCATION:David's Catfish Restaurant\, 10810 Highway 31\, Spanish Fort\, AL
UID:e.1304.22541
SEQUENCE:3
DTSTAMP:20260426T041919Z
URL:http://easternshorechamber-gzcms.preview.gochambermaster.com/events/details/small-business-mixer-22541
END:VEVENT

END:VCALENDAR
