BEGIN:VCALENDAR
VERSION:2.0
PRODID:-//ChamberMaster//Event Calendar 2.0//EN
METHOD:PUBLISH
X-PUBLISHED-TTL:P3D
REFRESH-INTERVAL:P3D
CALSCALE:GREGORIAN
BEGIN:VEVENT
DTSTART:20220219T140000Z
DTEND:20220219T170000Z
X-MICROSOFT-CDO-ALLDAYEVENT:FALSE
SUMMARY:SFEEF Gator Chase 10K\, 5K & 1 Miles Fun Run
DESCRIPTION:Presented by Tameron Honda\, the SFEEF 2022 Gator Chase 10K\, 5K & 1 Mile Fun Run on the Causeway\, is February 19 from 8 a.m. to 11 a.m. Spanish Fort Education Enrichment Foundation (SFEEF) provides educational enrichment opportunities for students who attend Spanish Fort public schools. Contact Sheren LeBlanc 251-604-3728
X-ALT-DESC;FMTTYPE=text/html:Presented by Tameron Honda\, the SFEEF&nbsp\;2022 Gator Chase 10K\, 5K &amp\; 1 Mile Fun Run on the Causeway\, is February 19 from 8 a.m. to 11 a.m. Spanish Fort Education Enrichment Foundation (SFEEF) provides educational enrichment opportunities for students who attend Spanish Fort public schools. Contact Sheren LeBlanc 251-604-3728
LOCATION:5 Rivers Delta Resource Center 30945 Five Rivers Boulevard Spanish Fort\, AL 36527
UID:e.1304.23320
SEQUENCE:3
DTSTAMP:20260425T134755Z
URL:http://easternshorechamber-gzcms.preview.gochambermaster.com/events/details/sfeef-gator-chase-10k-5k-1-miles-fun-run-23320
END:VEVENT

END:VCALENDAR
