BEGIN:VCALENDAR
VERSION:2.0
PRODID:-//ChamberMaster//Event Calendar 2.0//EN
METHOD:PUBLISH
X-PUBLISHED-TTL:P3D
REFRESH-INTERVAL:P3D
CALSCALE:GREGORIAN
BEGIN:VEVENT
DTSTART:20240406T130000Z
DTEND:20240406T160000Z
X-MICROSOFT-CDO-ALLDAYEVENT:FALSE
SUMMARY:Sandpiper Sprint 5K Walk/Run
DESCRIPTION:Join us as we celebrate the birds that depend on the unique and vital habitats only found in Baldwin County. From the sparrows in your backyards to the gulls on our beautiful beaches\, birds are dependent on the health of area ecosystems for survival\, including that of native plants and pollinators. The birds need the insects\, and the insects need native plants and we need you! This event is open to everyone of all ages and will be a perfect opportunity to enjoy the outdoors\, whether running or not. All proceeds will go directly towards protecting birds and the habitats they rely on in Mobile and Baldwin Counties.
X-ALT-DESC;FMTTYPE=text/html:Join us as we celebrate the birds that depend on the unique and vital habitats only found in Baldwin County. From the sparrows in your backyards to the gulls on our beautiful beaches\, birds are dependent on the health of area ecosystems for survival\, including that of native plants and pollinators. The birds need the insects\, and the insects need native plants&mdash\;and we need you! This event is open to everyone of all ages and will be a perfect opportunity to enjoy the outdoors\, whether running or not. All proceeds will go directly towards protecting birds and the habitats they rely on in Mobile and Baldwin Counties.
LOCATION:City of Summerdale 110 E Jackson Avenue Summerdale\, AL 36580
UID:e.1304.30075
SEQUENCE:3
DTSTAMP:20260420T151707Z
URL:http://easternshorechamber-gzcms.preview.gochambermaster.com/events/details/sandpiper-sprint-5k-walk-run-30075
END:VEVENT

END:VCALENDAR
