BEGIN:VCALENDAR
VERSION:2.0
PRODID:-//ChamberMaster//Event Calendar 2.0//EN
METHOD:PUBLISH
X-PUBLISHED-TTL:P3D
REFRESH-INTERVAL:P3D
CALSCALE:GREGORIAN
BEGIN:VEVENT
DTSTART;VALUE=DATE:20230630
DTEND;VALUE=DATE:20230703
TRANSP:TRANSPARENT
X-MICROSOFT-CDO-ALLDAYEVENT:TRUE
SUMMARY:Rockabilly Bama Lama\, Red White and Boom
DESCRIPTION:The best 3 day event around to entertain all ages\, 150 plus vendors and vintage merchants\, Pin-Up Queen Pageant\, Vintage Car and Motorcycle Show\, Jitterbug and DANCE Contests\, Talent Contests\, AND more than 15 US and European world renowned recording and grammy awarded and nominated performing artist!! Come Bop Hop Shop Jitter and Jive with us and go get your tickets now online and save before we are sold out !!!
X-ALT-DESC;FMTTYPE=text/html:The best 3 day event around to entertain all ages\, 150 plus vendors and vintage merchants\, Pin-Up Queen Pageant\, Vintage Car and Motorcycle Show\, Jitterbug and DANCE Contests\, Talent Contests\, AND more than 15 US and European world renowned recording and grammy awarded and nominated performing artist!! Come Bop Hop Shop Jitter and Jive with us and go get your tickets now online and save before we are sold out !!!
LOCATION:Baldwin County Coliseum Arena and Fairgrounds Robertsdale Alabama 19477 Fairgrounds Road\, Robertsdale Al
UID:e.1304.27498
SEQUENCE:3
DTSTAMP:20260422T123302Z
URL:http://easternshorechamber-gzcms.preview.gochambermaster.com/events/details/rockabilly-bama-lama-red-white-and-boom-27498
END:VEVENT

END:VCALENDAR
