BEGIN:VCALENDAR
VERSION:2.0
PRODID:-//ChamberMaster//Event Calendar 2.0//EN
METHOD:PUBLISH
X-PUBLISHED-TTL:P3D
REFRESH-INTERVAL:P3D
CALSCALE:GREGORIAN
BEGIN:VEVENT
DTSTART:20230630T150000Z
DTEND:20230703T020000Z
X-MICROSOFT-CDO-ALLDAYEVENT:FALSE
SUMMARY:Rockabilly Bama Lama Red White and Boom
DESCRIPTION:https://www.rockabillybamalama.com/ 28 US and European Live Bands from the Greats of Rockabilly\, Classic Car Show Hot Rods Lowriders Vintage Bikes\, PIN-UP\, Dance and Merchants Rowe from Rock 'n Roll to rocking chair\, tattoos\, Flat Tops to Up-Do's from hats to spats!!! Fireworks Nightly
X-ALT-DESC;FMTTYPE=text/html:https://www.rockabillybamalama.com/ 28 US and European Live Bands from the Greats of Rockabilly\, Classic Car Show Hot Rods Lowriders Vintage Bikes\, PIN-UP\, Dance and Merchants Rowe from Rock &#39\;n Roll to rocking chair\, tattoos\, Flat Tops to Up-Do&#39\;s from hats to spats!!! Fireworks Nightly
LOCATION:Baldwin County Coliseum & Fairgrounds 19477 Fairgrounds Road \, Robertsdale\, AL 36567
UID:e.1304.27650
SEQUENCE:3
DTSTAMP:20260422T105321Z
URL:http://easternshorechamber-gzcms.preview.gochambermaster.com/events/details/rockabilly-bama-lama-red-white-and-boom-06-30-2023-27650
END:VEVENT

END:VCALENDAR
