BEGIN:VCALENDAR
VERSION:2.0
PRODID:-//ChamberMaster//Event Calendar 2.0//EN
METHOD:PUBLISH
X-PUBLISHED-TTL:P3D
REFRESH-INTERVAL:P3D
CALSCALE:GREGORIAN
BEGIN:VEVENT
DTSTART:20230601T150000Z
DTEND:20230601T160000Z
X-MICROSOFT-CDO-ALLDAYEVENT:FALSE
SUMMARY:Ribbon Cutting & Open House D'Agostino Financial
DESCRIPTION:Ribbon Cutting & Open House D'Agostino Financial
X-ALT-DESC;FMTTYPE=text/html:&nbsp\;Ribbon Cutting &amp\; Open House&nbsp\;D&#39\;Agostino Financial
LOCATION:25369 US Highway 98 Suite E Daphne\, Alabama 36526
UID:e.1304.27612
SEQUENCE:3
DTSTAMP:20260422T105212Z
URL:http://easternshorechamber-gzcms.preview.gochambermaster.com/events/details/ribbon-cutting-open-house-d-agostino-financial-27612
END:VEVENT

END:VCALENDAR
