BEGIN:VCALENDAR
VERSION:2.0
PRODID:-//ChamberMaster//Event Calendar 2.0//EN
METHOD:PUBLISH
X-PUBLISHED-TTL:P3D
REFRESH-INTERVAL:P3D
CALSCALE:GREGORIAN
BEGIN:VEVENT
DTSTART:20221202T220000Z
DTEND:20221202T223000Z
X-MICROSOFT-CDO-ALLDAYEVENT:FALSE
SUMMARY:Ribbon Cutting & Open House CrossBay Digital
DESCRIPTION:Ribbon Cutting & Open House: CrossBay Digital
X-ALT-DESC;FMTTYPE=text/html:&nbsp\;Ribbon Cutting &amp\; Open House: CrossBay Digital<br />\n
LOCATION:356 Morphy Avenue\, Suite B Fairhope\, AL 36532
UID:e.1304.26518
SEQUENCE:3
DTSTAMP:20260424T054957Z
URL:http://easternshorechamber-gzcms.preview.gochambermaster.com/events/details/ribbon-cutting-open-house-crossbay-digital-26518
END:VEVENT

END:VCALENDAR
