BEGIN:VCALENDAR
VERSION:2.0
PRODID:-//ChamberMaster//Event Calendar 2.0//EN
METHOD:PUBLISH
X-PUBLISHED-TTL:P3D
REFRESH-INTERVAL:P3D
CALSCALE:GREGORIAN
BEGIN:VEVENT
DTSTART:20221215T190000Z
DTEND:20221215T200000Z
X-MICROSOFT-CDO-ALLDAYEVENT:FALSE
SUMMARY:Ribbon Cutting Open House & Anniversary Eastern Shore Pharmacy
DESCRIPTION:Ribbon Cutting Open House & Anniversary: Eastern Shore Pharmacy
X-ALT-DESC;FMTTYPE=text/html:Ribbon Cutting Open House &amp\; Anniversary: Eastern Shore Pharmacy&nbsp\;
LOCATION:20489 State Highway 181 Fairhope\, AL 36532
UID:e.1304.26498
SEQUENCE:3
DTSTAMP:20260424T065445Z
URL:http://easternshorechamber-gzcms.preview.gochambermaster.com/events/details/ribbon-cutting-open-house-anniversary-eastern-shore-pharmacy-26498
END:VEVENT

END:VCALENDAR
