BEGIN:VCALENDAR
VERSION:2.0
PRODID:-//ChamberMaster//Event Calendar 2.0//EN
METHOD:PUBLISH
X-PUBLISHED-TTL:P3D
REFRESH-INTERVAL:P3D
CALSCALE:GREGORIAN
BEGIN:VEVENT
DTSTART:20221022T120000Z
DTEND:20221022T150000Z
X-MICROSOFT-CDO-ALLDAYEVENT:FALSE
SUMMARY:Prodisee Pantry Turkey Trot
DESCRIPTION:5K Race & 1 Mile Fun Run\n\nCertified Course\n\nSaturday\, October 22\, 2022\n\n8 am - 5K & 9 am - Fun Run\n\nCity Hall in Daphne\n\n\n\n\n\nwith free food & drinks\, children's\n\ngames\, booths & fantastic door\n\nprizes for all registered participants\n\n\n\nBenefits: Prodisee Pantry
X-ALT-DESC;FMTTYPE=text/html:5K Race &amp\; 1 Mile Fun Run<br />\nCertified Course<br />\nSaturday\, October 22\, 2022<br />\n8 am - 5K &amp\; 9 am - Fun Run<br />\nCity Hall in Daphne<br />\n<br />\n<br />\nwith free food &amp\; drinks\, children&rsquo\;s<br />\ngames\, booths &amp\; fantastic door<br />\nprizes for all registered participants<br />\n<br />\nBenefits: Prodisee Pantry<br />\n<br />\n<br />\n&nbsp\;
LOCATION:Daphne City Hall 1705 Main St\, Daphne\, AL 36526
UID:e.1304.25824
SEQUENCE:3
DTSTAMP:20260424T134649Z
URL:http://easternshorechamber-gzcms.preview.gochambermaster.com/events/details/prodisee-pantry-turkey-trot-25824
END:VEVENT

END:VCALENDAR
