BEGIN:VCALENDAR
VERSION:2.0
PRODID:-//ChamberMaster//Event Calendar 2.0//EN
METHOD:PUBLISH
X-PUBLISHED-TTL:P3D
REFRESH-INTERVAL:P3D
CALSCALE:GREGORIAN
BEGIN:VEVENT
DTSTART:20220806T223000Z
DTEND:20220807T020000Z
X-MICROSOFT-CDO-ALLDAYEVENT:FALSE
SUMMARY:OWA Live Music Series
DESCRIPTION:Our summer concert series is back! Join us select Saturdays this summer on the OWA Island Amphitheater for a sizzling hot lineup of live music!\n\nSaturday\, August 6 will feature headliner Flow Tribe from 7:30-9pm with opening act\, Yeah You Right at 5:30pm. Grab a cold beverage to go from your favorite Downtown OWA restaurant and meet us at the Island!\n\nMust be 21+ to consume alcohol. Please enjoy responsibly.\n\nLearn more about the artists below as well as other OWA Live events!
X-ALT-DESC;FMTTYPE=text/html:<p>Our summer concert series is back! Join us select Saturdays this summer on the OWA Island Amphitheater for a sizzling hot lineup of live music!</p>\n\n<p>Saturday\, August 6 will feature headliner Flow Tribe from 7:30-9pm with opening act\, Yeah You Right at 5:30pm. Grab a cold beverage to go from your favorite Downtown OWA restaurant and meet us at the Island!</p>\n\n<p>Must be 21+ to consume alcohol. Please enjoy responsibly.</p>\n\n<p>Learn more about the artists below as well as other OWA Live events!</p>\n
LOCATION:101-N South OWA Blvd\, Foley\, AL 36535
UID:e.1304.25807
SEQUENCE:3
DTSTAMP:20260424T122651Z
URL:http://easternshorechamber-gzcms.preview.gochambermaster.com/events/details/owa-live-music-series-08-06-2022-25807
END:VEVENT

END:VCALENDAR
