BEGIN:VCALENDAR
VERSION:2.0
PRODID:-//ChamberMaster//Event Calendar 2.0//EN
METHOD:PUBLISH
X-PUBLISHED-TTL:P3D
REFRESH-INTERVAL:P3D
CALSCALE:GREGORIAN
BEGIN:VEVENT
DTSTART:20231027T220000Z
DTEND:20231028T010000Z
X-MICROSOFT-CDO-ALLDAYEVENT:FALSE
SUMMARY:OWA Arts & Crafts Walk
DESCRIPTION:Get ready to immerse yourself in an unforgettable evening of artistic wonders right in the heart of Downtown. OWA proudly presents the sensational Art Walk on Friday\, October 27th and this time\, it's bigger\, bolder\, and better than ever before!\n\nPicture this: you're strolling along the enchanting streets of OWA\, surrounded by exquisite art pieces that will make your heart skip a beat. But wait\, there's more! We're thrilled to announce that we're rolling out the red carpet for craft vendors\, adding an exciting twist to the mix.\n\nIt's not just an art showcase\; it's a sensory journey. Imagine yourself sipping on a delightful cocktail\, from OWA's top-notch restaurants and bars. With your drink in hand\, you're set to embark on a visual adventure like no other\, surrounded by masterpieces waiting to find a new home.\n\nBut that's not all   brace yourself for a musical delight! Let the melodies of Zach Chavers\, Mike Miller & David Parish guide you through the vibrant tapestry of the Art Walk. Their tunes will weave seamlessly with the artistic creations\, enhancing the atmosphere as you meander through the charming streets.\n\nGot a rumble in your tummy? We've got you covered! Indulge in a delectable dinner at one of our signature restaurants in Downtown OWA.\n\nOWA's Art Walk is your gateway to a world where creativity knows no bounds\, and every step you take is a step into a realm of beauty and wonder. Don't miss out on the chance to create unforgettable memories and perhaps\, take home a piece of the magic. See you on October 27th!\n\nFor more information on this event\, go to: https://visitowa.com/art-walk/.
X-ALT-DESC;FMTTYPE=text/html:Get ready to immerse yourself in an unforgettable evening of artistic wonders right in the heart of Downtown. OWA proudly presents the sensational Art Walk on Friday\, October 27th and this time\, it&#39\;s bigger\, bolder\, and better than ever before!<br />\nPicture this: you&#39\;re strolling along the enchanting streets of OWA\, surrounded by exquisite art pieces that will make your heart skip a beat. But wait\, there&#39\;s more! We&#39\;re thrilled to announce that we&#39\;re rolling out the red carpet for craft vendors\, adding an exciting twist to the mix.<br />\nIt&#39\;s not just an art showcase\; it&#39\;s a sensory journey. Imagine yourself sipping on a delightful cocktail\, from OWA&#39\;s top-notch restaurants and bars. With your drink in hand\, you&#39\;re set to embark on a visual adventure like no other\, surrounded by masterpieces waiting to find a new home.<br />\nBut that&#39\;s not all &ndash\; brace yourself for a musical delight! Let the melodies of Zach Chavers\, Mike Miller &amp\; David Parish guide you through the vibrant tapestry of the Art Walk. Their tunes will weave seamlessly with the artistic creations\, enhancing the atmosphere as you meander through the charming streets.<br />\nGot a rumble in your tummy? We&#39\;ve got you covered! Indulge in a delectable dinner at one of our signature restaurants in Downtown OWA.<br />\nOWA&#39\;s Art Walk is your gateway to a world where creativity knows no bounds\, and every step you take is a step into a realm of beauty and wonder. Don&#39\;t miss out on the chance to create unforgettable memories and perhaps\, take home a piece of the magic. See you on October 27th!<br />\nFor more information on this event\, go to: https://visitowa.com/art-walk/.
LOCATION:Downtown OWA
UID:e.1304.28107
SEQUENCE:3
DTSTAMP:20260422T000933Z
URL:http://easternshorechamber-gzcms.preview.gochambermaster.com/events/details/owa-arts-crafts-walk-28107
END:VEVENT

END:VCALENDAR
