BEGIN:VCALENDAR
VERSION:2.0
PRODID:-//ChamberMaster//Event Calendar 2.0//EN
METHOD:PUBLISH
X-PUBLISHED-TTL:P3D
REFRESH-INTERVAL:P3D
CALSCALE:GREGORIAN
BEGIN:VEVENT
DTSTART:20210910T160000Z
DTEND:20210910T210000Z
X-MICROSOFT-CDO-ALLDAYEVENT:FALSE
SUMMARY:Original Oyster House's 14th Annual Never Forget Lunch
DESCRIPTION:The Original Oyster House restaurants will honor Mobile and Baldwin County law enforcement\, firefighters\, paramedics and sheriff officers by offering a free "Never Forget" lunch at either the Gulf Shores or Mobile Causeway location. ID or first responders uniform is required for free dine-in only lunch. In memory of victims of 9/11\, LifeSouth Community Blood Centers\, non-profit community blood supplier\, will also be on hand at the Mobile Causeway location for blood donations.  A special illustrated 9/11 t-shirt will commend all donors.  Blood donations collected at the Never Forget Lunch are distributed to local hospitals.
X-ALT-DESC;FMTTYPE=text/html:The Original Oyster House restaurants will honor Mobile and Baldwin County law enforcement\, firefighters\, paramedics and sheriff officers by offering a free &quot\;Never Forget&quot\; lunch at either the Gulf Shores or Mobile Causeway location. ID or first responders uniform is required for free dine-in only lunch. In memory of victims of 9/11\, LifeSouth Community Blood Centers\, non-profit community blood supplier\, will also be on hand at the Mobile Causeway location for blood donations.&nbsp\; A special illustrated 9/11 t-shirt will commend all donors.&nbsp\; Blood donations collected at the Never Forget Lunch are distributed to local hospitals.&nbsp\;
LOCATION:Mobile: 3733 Battleship Parkway on the Causeway\; Gulf Shores: 701 Gulf Shores Parkway
UID:e.1304.22458
SEQUENCE:3
DTSTAMP:20260426T042144Z
URL:http://easternshorechamber-gzcms.preview.gochambermaster.com/events/details/original-oyster-house-s-14th-annual-never-forget-lunch-22458
END:VEVENT

END:VCALENDAR
