BEGIN:VCALENDAR
VERSION:2.0
PRODID:-//ChamberMaster//Event Calendar 2.0//EN
METHOD:PUBLISH
X-PUBLISHED-TTL:P3D
REFRESH-INTERVAL:P3D
CALSCALE:GREGORIAN
BEGIN:VEVENT
DTSTART:20210925T160000Z
DTEND:20210926T030000Z
X-MICROSOFT-CDO-ALLDAYEVENT:FALSE
SUMMARY:Oktoberfest
DESCRIPTION:Fairhope Brewing Company is hosting Oktoberfest with live music\, food\, fun and football. Best costume winner named Burgermeister for 2021
X-ALT-DESC;FMTTYPE=text/html:Fairhope Brewing Company is hosting Oktoberfest with live music\, food\, fun and football. Best costume winner named Burgermeister for 2021
LOCATION:Fairhope Brewing Company\, 914 Nichols Avenue\, Fairhope\, AL
UID:e.1304.22618
SEQUENCE:3
DTSTAMP:20260426T042144Z
URL:http://easternshorechamber-gzcms.preview.gochambermaster.com/events/details/oktoberfest-09-25-2021-22618
END:VEVENT

END:VCALENDAR
