BEGIN:VCALENDAR
VERSION:2.0
PRODID:-//ChamberMaster//Event Calendar 2.0//EN
METHOD:PUBLISH
X-PUBLISHED-TTL:P3D
REFRESH-INTERVAL:P3D
CALSCALE:GREGORIAN
BEGIN:VEVENT
DTSTART:20211126T233000Z
DTEND:20211127T003000Z
X-MICROSOFT-CDO-ALLDAYEVENT:FALSE
SUMMARY:North Pole Snowball Fight with Santa
DESCRIPTION:Bring your kids to have a snowball fight (fake snowballs) with Santa and Mrs. Claus on Black Friday and Christmas Eve. Who knows\, some other special characters may show up too! Black Friday and Christmas Eve
X-ALT-DESC;FMTTYPE=text/html:Bring your kids to have a snowball fight (fake snowballs) with Santa and Mrs. Claus on Black Friday and Christmas Eve. Who knows\, some other special characters may show up too! Black Friday and Christmas Eve
LOCATION:30500 Hwy 181 Spanish Fort\, AL Eastern Shore Centre Courtyard
UID:e.1304.22866
SEQUENCE:3
DTSTAMP:20260425T230236Z
URL:http://easternshorechamber-gzcms.preview.gochambermaster.com/events/details/north-pole-snowball-fight-with-santa-22866
END:VEVENT

END:VCALENDAR
