BEGIN:VCALENDAR
VERSION:2.0
PRODID:-//ChamberMaster//Event Calendar 2.0//EN
METHOD:PUBLISH
X-PUBLISHED-TTL:P3D
REFRESH-INTERVAL:P3D
CALSCALE:GREGORIAN
BEGIN:VEVENT
DTSTART:20240717T170000Z
DTEND:20240717T180000Z
X-MICROSOFT-CDO-ALLDAYEVENT:FALSE
SUMMARY:Networking at Noon: Baumhower's Victory Grille
DESCRIPTION:Networking at Noon: Baumhower's Victory Grille\n\n\nNetworking at Noon is all about enjoying lunch at one of 3 restaurants featured each month along the Eastern Shore. Our goal is to help members expand their networks beyond a traditional business connection. You may meet with some old friends you haven't seen in a while or meet some new folks\, it will be a different group each time!\n\n\n\nYou can choose from 3 restaurant each month. For July\, your options are Tamara's Downtown in Fairhope\, Baumhower's Victory Grille in Daphne\, and Half Shell Oyster House in Spanish Fort. Make sure you are registering for the restaurant you want to attend. If at any point you find you cannot attend\, please contact us because there is usually a waitlist.\n\n\n\nSpots fill up fast! If you are not one of the first 10 people to register\, you will be placed on the waitlist. In case someone is unable to attend\, we will call to inform you that you have been moved up to attend.
X-ALT-DESC;FMTTYPE=text/html:<span style="font-size:14px\;"><span style="font-family:arial\;"><u><strong>Networking at Noon: Baumhower&#39\;s Victory Grille</strong></u></span></span>\n<p style="font-size: 16px\; box-sizing: border-box\; margin: 0px\; caret-color: rgb(68\, 68\, 68)\; color: rgb(68\, 68\, 68)\; font-stretch: normal\; line-height: normal\; font-family: &quot\;Helvetica Neue&quot\;\; min-height: 15px\;"><br />\n<span style="color: rgb(68\, 68\, 68)\; font-family: arial\; font-size: 14px\; caret-color: rgb(0\, 0\, 0)\;">Networking at Noon is all about enjoying lunch at one of 3 restaurants featured each month along the Eastern Shore. Our goal is to help members expand their networks beyond a traditional business connection. You may meet with some old friends you haven&rsquo\;t seen in a while or meet some new folks\, it will be a different group each time!</span><br style="color: rgb(68\, 68\, 68)\; font-family: arial\; font-size: 14px\; caret-color: rgb(0\, 0\, 0)\;" />\n<br style="color: rgb(68\, 68\, 68)\; font-family: arial\; font-size: 14px\; caret-color: rgb(0\, 0\, 0)\;" />\n<span style="color: rgb(68\, 68\, 68)\; font-family: arial\; font-size: 14px\; caret-color: rgb(0\, 0\, 0)\;">You can choose from 3 restaurant each month. For July\, your options are Tamara&#39\;s Downtown in Fairhope\,&nbsp\;Baumhower&#39\;s Victory Grille in Daphne\, and Half Shell Oyster House in Spanish Fort.&nbsp\;</span><span style="color: rgb(68\, 68\, 68)\; font-family: arial\; font-size: 14px\; caret-color: rgb(68\, 68\, 68)\;">Make sure you are registering for the restaurant you want to attend. If at any point you find you cannot attend\, please contact us because there is usually&nbsp\;a waitlist.</span><br style="color: rgb(68\, 68\, 68)\; font-family: arial\; font-size: 14px\; caret-color: rgb(0\, 0\, 0)\;" />\n<br style="color: rgb(68\, 68\, 68)\; font-family: arial\; font-size: 14px\; caret-color: rgb(0\, 0\, 0)\;" />\n<span style="color: rgb(68\, 68\, 68)\; font-family: arial\; font-size: 14px\; caret-color: rgb(68\, 68\, 68)\;">Spots fill up fast!&nbsp\;If you are not one&nbsp\;of the first 10 people to register\, you will be placed on the waitlist. In case someone is unable to attend\, we will call to inform you that you have been moved up to attend.&nbsp\;</span></p>\n
LOCATION:Baumhower's Victory Grille 6880 US-90 Daphne\, AL 36526
UID:e.1304.32181
SEQUENCE:3
DTSTAMP:20260420T020952Z
URL:http://easternshorechamber-gzcms.preview.gochambermaster.com/events/details/networking-at-noon-baumhower-s-victory-grille-32181
END:VEVENT

END:VCALENDAR
