BEGIN:VCALENDAR
VERSION:2.0
PRODID:-//ChamberMaster//Event Calendar 2.0//EN
METHOD:PUBLISH
X-PUBLISHED-TTL:P3D
REFRESH-INTERVAL:P3D
CALSCALE:GREGORIAN
BEGIN:VEVENT
DTSTART:20210924T233000Z
DTEND:20210925T013000Z
X-MICROSOFT-CDO-ALLDAYEVENT:FALSE
SUMMARY:Music and Storytelling
DESCRIPTION:Popular Pensacola band String Farm plays top Bluegrass hits\, Old Time Gospel and a variety of unplugged Americana music. Fairhope songwriter Mike Turner share stories and some original music from his "Songs of the Gulf" program\, featuring songs about historical and cultural aspects of the Mobile Bay and Gulf Coast regions.
X-ALT-DESC;FMTTYPE=text/html:Popular Pensacola band String Farm plays top Bluegrass hits\, Old Time Gospel and a variety of unplugged Americana music. Fairhope songwriter Mike Turner share stories and some original music from his &ldquo\;Songs of the Gulf&rdquo\; program\, featuring songs about historical and cultural aspects of the Mobile Bay and Gulf Coast regions.
LOCATION:Blakeley State Park\, 34745 State Hwy 225\, Spanish Fort\, AL 36527
UID:e.1304.22502
SEQUENCE:3
DTSTAMP:20260426T041945Z
URL:http://easternshorechamber-gzcms.preview.gochambermaster.com/events/details/music-and-storytelling-22502
END:VEVENT

END:VCALENDAR
