BEGIN:VCALENDAR
VERSION:2.0
PRODID:-//ChamberMaster//Event Calendar 2.0//EN
METHOD:PUBLISH
X-PUBLISHED-TTL:P3D
REFRESH-INTERVAL:P3D
CALSCALE:GREGORIAN
BEGIN:VEVENT
DTSTART:20230615T131500Z
DTEND:20230616T020000Z
X-MICROSOFT-CDO-ALLDAYEVENT:FALSE
SUMMARY:Morning Marketing Meeting: Spanish Fort
DESCRIPTION:Morning Marketing's monthly roundtable setting offers each member a minute to introduce their business\, promote specials and plug upcoming events. \n\n\n\nThis Month's Morning Marketing Sponsor is PJ's Coffee.
X-ALT-DESC;FMTTYPE=text/html:Morning Marketing&#39\;s monthly roundtable setting offers each member a minute to introduce their business\, promote specials and plug upcoming events.&nbsp\;<br />\n<br />\nThis Month&#39\;s Morning Marketing Sponsor is PJ&#39\;s Coffee.&nbsp\;
LOCATION:Prodisee Pantry 9315 Spanish Fort Blvd Spanish Fort\, AL 36527
UID:e.1304.26591
SEQUENCE:3
DTSTAMP:20260422T105210Z
URL:http://easternshorechamber-gzcms.preview.gochambermaster.com/events/details/morning-marketing-meeting-spanish-fort-26591
END:VEVENT

END:VCALENDAR
