BEGIN:VCALENDAR
VERSION:2.0
PRODID:-//ChamberMaster//Event Calendar 2.0//EN
METHOD:PUBLISH
X-PUBLISHED-TTL:P3D
REFRESH-INTERVAL:P3D
CALSCALE:GREGORIAN
BEGIN:VEVENT
DTSTART;VALUE=DATE:20230601
DTEND;VALUE=DATE:20230616
TRANSP:TRANSPARENT
X-MICROSOFT-CDO-ALLDAYEVENT:TRUE
SUMMARY:Luke Day Food Drive and Box Dedication
DESCRIPTION:NextHome Gulf Coast Living invites you to join us in support of both Pets and People by donating non-perishable food items during our Luke Day Food Drive taking place June 1 - 14\, with donations being collected at our office located at 19605 S Greeno Road\, Fairhope\, AL 36532.\n\n\n\nOn June 15\, which is declared Luke Day\, NextHome Gulf Coast Living along with staff and volunteers from The Haven will dedicate two pet specific Luke Boxes\, stocking them with pet food and supplies collected during the fourteen day food drive. Following the unveiling of these boxes of which will be located at The Haven and the NextHome Gulf Coast Living office\, a team will caravan through Baldwin County to stock as many local Blessing Boxes as possible. \n\n\n\nThe purpose of these Blessing Boxes is to have a place for those in need to stop by and grab items available to provide a meal for their family. Luke Day is a company wide initiative designed to support the community of which we live and serve. Collaborating with The Haven to prevent families from having to surrender their four-legged members aligns perfectly with our mission. Adding the opportunity to also stock local boxes is an added benefit. \n\n\n\nFor more information on how to donate to our Luke Day Food Drive\, feeding pets and people contact 251.501.4501 or christy@nhgulfcoastliving. com.
X-ALT-DESC;FMTTYPE=text/html:NextHome Gulf Coast Living invites you to join us in support of both Pets and People by donating non-perishable food items during our Luke Day Food Drive taking place June 1 - 14\, with donations being collected at our office located at 19605 S Greeno Road\, Fairhope\, AL 36532.<br />\n<br />\nOn June 15\, which is declared Luke Day\, NextHome Gulf Coast Living along with staff and volunteers from The Haven will dedicate two pet specific Luke Boxes\, stocking them with pet food and supplies collected during the fourteen day food drive. Following the unveiling of these boxes of which will be located at The Haven and the NextHome Gulf Coast Living office\, a team will caravan through Baldwin County to stock as many local Blessing Boxes as possible.&nbsp\;<br />\n<br />\nThe purpose of these Blessing Boxes is to have a place for those in need to stop by and grab items available to provide a meal for their family. Luke Day is a company wide initiative designed to support the community of which we live and serve. Collaborating with The Haven to prevent families from having to surrender their four-legged members aligns perfectly with our mission. Adding the opportunity to also stock local boxes is an added benefit.&nbsp\;<br />\n<br />\nFor more information on how to donate to our Luke Day Food Drive\, feeding pets and people contact 251.501.4501 or christy@nhgulfcoastliving. com.<br />\n&nbsp\;
LOCATION:NextHome Gulf Coast Living 19605 S Greeno Road\, Suite 1101 Fairhope\, AL 36532
UID:e.1304.27614
SEQUENCE:3
DTSTAMP:20260423T004619Z
URL:http://easternshorechamber-gzcms.preview.gochambermaster.com/events/details/luke-day-food-drive-and-box-dedication-27614
END:VEVENT

END:VCALENDAR
