BEGIN:VCALENDAR
VERSION:2.0
PRODID:-//ChamberMaster//Event Calendar 2.0//EN
METHOD:PUBLISH
X-PUBLISHED-TTL:P3D
REFRESH-INTERVAL:P3D
CALSCALE:GREGORIAN
BEGIN:VEVENT
DTSTART:20240615T150000Z
DTEND:20240615T180000Z
X-MICROSOFT-CDO-ALLDAYEVENT:FALSE
SUMMARY:Luke Day Celebration
DESCRIPTION:Luke Day Celebration benefitting The Haven. A community event offering a Pet Adoption\, a Shred Truck\, food options available from The Real Grill Master BBQ Truck and more! Pet supplies and food donations appreciated. The event is taking place from 10:00 - 1:00 at the NextHome Gulf Coast Living office located at 19605 S Greeno Road.
X-ALT-DESC;FMTTYPE=text/html:Luke Day Celebration benefitting The Haven. A community event offering a Pet Adoption\, a Shred Truck\, food options available from The Real Grill Master BBQ Truck and more! Pet supplies and food donations appreciated. The event is taking place from 10:00 - 1:00 at the NextHome Gulf Coast Living office located at 19605 S Greeno Road.
LOCATION:19605 S Greeno Road Fairhope AL 36532
UID:e.1304.31405
SEQUENCE:3
DTSTAMP:20260420T020843Z
URL:http://easternshorechamber-gzcms.preview.gochambermaster.com/events/details/luke-day-celebration-31405
END:VEVENT

END:VCALENDAR
