BEGIN:VCALENDAR
VERSION:2.0
PRODID:-//ChamberMaster//Event Calendar 2.0//EN
METHOD:PUBLISH
X-PUBLISHED-TTL:P3D
REFRESH-INTERVAL:P3D
CALSCALE:GREGORIAN
BEGIN:VEVENT
DTSTART:20230602T220000Z
DTEND:20230603T020000Z
X-MICROSOFT-CDO-ALLDAYEVENT:FALSE
SUMMARY:Live at Five Concert
DESCRIPTION:Tip Tops Concerts take place at The Halstead Amphitheater located in downtown Fairhope on the campus of Coastal Alabama Community College. The Amphitheater includes more than 65\,000 square feet of grassy\, open-air space for seating and gathering. For Tickets: www.liveatfivefairhope.com/shows
X-ALT-DESC;FMTTYPE=text/html:Tip Tops Concerts take place at The Halstead Amphitheater located in downtown Fairhope on the campus of Coastal Alabama Community College. The Amphitheater includes more than 65\,000 square feet of grassy\, open-air space for seating and gathering. For Tickets: www.liveatfivefairhope.com/shows
LOCATION:
UID:e.1304.27235
SEQUENCE:3
DTSTAMP:20260422T105135Z
URL:http://easternshorechamber-gzcms.preview.gochambermaster.com/events/details/live-at-five-concert-06-02-2023-27235
END:VEVENT

END:VCALENDAR
