BEGIN:VCALENDAR
VERSION:2.0
PRODID:-//ChamberMaster//Event Calendar 2.0//EN
METHOD:PUBLISH
X-PUBLISHED-TTL:P3D
REFRESH-INTERVAL:P3D
CALSCALE:GREGORIAN
BEGIN:VEVENT
DTSTART:20230422T140000Z
DTEND:20230422T190000Z
X-MICROSOFT-CDO-ALLDAYEVENT:FALSE
SUMMARY:Lemonade Day
DESCRIPTION:Lemonade Day is April 22\, 2023! \n\n- Stand Registration is NOW Open for Kids 3rd - 6th Grade. Stand registration is FREE and kids get to keep their profit! \n\nhttps://lemonadeday.org/eastern-shore.../brand-your-stand\n\nBusiness Safe Stand Location Registration: https://bit.ly/SafeStandLocation23\n\nLemonade Day Stands will be set up around Daphne\, Fairhope and Spanish Fort on April 22\, 2023. \n\nLemonade Day teaches 3rd - 6th Graders how to start\, own\, and operate their very own business\, a lemonade stand! Kids learn about creating their own success when they learn to set a goal\, make a plan\, work the plan\, and achieve their dreams.\n\nBy sparking entrepreneurship\, we prepare today's youth to become the business and community leaders of tomorrow. Lemonade day is April 22\, 2023.
X-ALT-DESC;FMTTYPE=text/html:<div class="x11i5rnm xat24cr x1mh8g0r x1vvkbs xdj266r" style="margin: 0px\; word-wrap: break-word\; font-family: system-ui\, -apple-system\, BlinkMacSystemFont\, &quot\;.SFNSText-Regular&quot\;\, sans-serif\; caret-color: rgb(5\, 5\, 5)\; color: rgb(5\, 5\, 5)\; font-size: 15px\;">Lemonade Day is April 22\, 2023!&nbsp\;</div>\n\n<div class="x11i5rnm xat24cr x1mh8g0r x1vvkbs xtlvy1s" style="margin: 0.5em 0px 0px\; word-wrap: break-word\; font-family: system-ui\, -apple-system\, BlinkMacSystemFont\, &quot\;.SFNSText-Regular&quot\;\, sans-serif\; caret-color: rgb(5\, 5\, 5)\; color: rgb(5\, 5\, 5)\; font-size: 15px\;">- Stand Registration is NOW Open for Kids 3rd - 6th Grade. Stand registration is FREE and kids get to keep their profit!&nbsp\;<br />\n<a class="x1i10hfl xjbqb8w x6umtig x1b1mbwd xaqea5y xav7gou x9f619 x1ypdohk xt0psk2 xe8uvvx xdj266r x11i5rnm xat24cr x1mh8g0r xexx8yu x4uap5 x18d9i69 xkhd6sd x16tdsg8 x1hl2dhg xggy1nq x1a2a7pz xt0b8zv x1fey0fg" href="https://lemonadeday.org/eastern-shore-alabama/brand-your-stand?fbclid=IwAR0hSuoeFZ0cRSwCKQ8wcdAtb9uvBDniK-1Qz8-_sOLp8aps-E_ME_UvQuA" rel="nofollow noopener" role="link" style="color: var(--blue-link)\; cursor: pointer\; text-decoration: none\; margin: 0px\; text-align: inherit\; padding: 0px\; outline: none\; border: 0px\; box-sizing: border-box\; list-style: none\; touch-action: manipulation\; display: inline\; font-family: inherit\;" tabindex="0" target="_blank">https://lemonadeday.org/eastern-shore.../brand-your-stand</a></div>\n\n<div class="x11i5rnm xat24cr x1mh8g0r x1vvkbs xtlvy1s" style="margin: 0.5em 0px 0px\; word-wrap: break-word\; font-family: system-ui\, -apple-system\, BlinkMacSystemFont\, &quot\;.SFNSText-Regular&quot\;\, sans-serif\; caret-color: rgb(5\, 5\, 5)\; color: rgb(5\, 5\, 5)\; font-size: 15px\;">Business Safe Stand Location Registration:&nbsp\;<a class="x1i10hfl xjbqb8w x6umtig x1b1mbwd xaqea5y xav7gou x9f619 x1ypdohk xt0psk2 xe8uvvx xdj266r x11i5rnm xat24cr x1mh8g0r xexx8yu x4uap5 x18d9i69 xkhd6sd x16tdsg8 x1hl2dhg xggy1nq x1a2a7pz xt0b8zv x1fey0fg" href="https://l.facebook.com/l.php?u=https%3A%2F%2Fbit.ly%2FSafeStandLocation23%3Ffbclid%3DIwAR31K7bq6YIaQGR578jgwu8I1ruo-0OARLgud4HtYWv97bGOFJCxEQr5vkg&amp\;h=AT22bFJJET7yuQKG714QL3z0Ecy-1DxwwfVk3g1x5dW_MYgk8fk7f0yrnDDbteOqC4yie0sVY1IJkdGe78LGqYvbC5LPkpSKb2n-KqzuIYxDNg5YZLE5HOennrbD-vcd8fzXoQbkYtxb2I7GvAzUNmQ&amp\;__tn__=q&amp\;c[0]=AT1zKCTA2kFHbgYZ3PcUpftHCiahL1Vo5teYEkrq6bIETgc85LRWt-ATb1naYh7R856SjKsQgYhyWDg8hVi6WmkbDBXu_qB2AMUyj1mE1YINUlbKShlBQcXWVSXfPBAkCQVglTqC_tmyfrE8RqrAItXe1vI_yn5qzBuB-rIVaCj0ciOd3OKZ" rel="nofollow noopener" role="link" style="color: var(--blue-link)\; cursor: pointer\; text-decoration: none\; margin: 0px\; text-align: inherit\; padding: 0px\; outline: none\; border: 0px\; box-sizing: border-box\; list-style: none\; touch-action: manipulation\; display: inline\; font-family: inherit\;" tabindex="0" target="_blank">https://bit.ly/SafeStandLocation23</a></div>\n\n<div class="x11i5rnm xat24cr x1mh8g0r x1vvkbs xtlvy1s" style="margin: 0.5em 0px 0px\; word-wrap: break-word\; font-family: system-ui\, -apple-system\, BlinkMacSystemFont\, &quot\;.SFNSText-Regular&quot\;\, sans-serif\; caret-color: rgb(5\, 5\, 5)\; color: rgb(5\, 5\, 5)\; font-size: 15px\;">Lemonade Day Stands will be set up around Daphne\, Fairhope and Spanish Fort on April 22\, 2023.&nbsp\;</div>\n\n<div class="x11i5rnm xat24cr x1mh8g0r x1vvkbs xtlvy1s" style="margin: 0.5em 0px 0px\; word-wrap: break-word\; font-family: system-ui\, -apple-system\, BlinkMacSystemFont\, &quot\;.SFNSText-Regular&quot\;\, sans-serif\; caret-color: rgb(5\, 5\, 5)\; color: rgb(5\, 5\, 5)\; font-size: 15px\;">Lemonade Day teaches 3rd - 6th Graders how to start\, own\, and operate their very own business\, a lemonade stand! Kids learn about creating their own success when they learn to set a goal\, make a plan\, work the plan\, and achieve their dreams.</div>\n\n<div class="x11i5rnm xat24cr x1mh8g0r x1vvkbs xtlvy1s" style="margin: 0.5em 0px 0px\; word-wrap: break-word\; font-family: system-ui\, -apple-system\, BlinkMacSystemFont\, &quot\;.SFNSText-Regular&quot\;\, sans-serif\; caret-color: rgb(5\, 5\, 5)\; color: rgb(5\, 5\, 5)\; font-size: 15px\;">By sparking entrepreneurship\, we prepare today&#39\;s youth to become the business and community leaders of tomorrow. Lemonade day is April 22\, 2023.</div>\n
LOCATION:Daphne\, Spanish Fort\, & Fairhope
UID:e.1304.27373
SEQUENCE:3
DTSTAMP:20260423T122407Z
URL:http://easternshorechamber-gzcms.preview.gochambermaster.com/events/details/lemonade-day-27373
END:VEVENT

END:VCALENDAR
