BEGIN:VCALENDAR
VERSION:2.0
PRODID:-//ChamberMaster//Event Calendar 2.0//EN
METHOD:PUBLISH
X-PUBLISHED-TTL:P3D
REFRESH-INTERVAL:P3D
CALSCALE:GREGORIAN
BEGIN:VEVENT
DTSTART:20230912T220000Z
DTEND:20230913T000000Z
X-MICROSOFT-CDO-ALLDAYEVENT:FALSE
SUMMARY:Ladies Night: Poppy Blowout Bar
DESCRIPTION:Join us for a fun evening at Poppy Blowout Bar in Spanish Fort! Sip + Shop + Enjoy Light Refreshments at this open house Ladies Night! \n\n\n\nPoppy Blowout Bar will have vendors for a FUN evening! Full details below: \n\n\n\nWho will be there: \n\nMagnolia Flower Truck\n\nThreaded Oyster\n\nPink Velvet Boutique \n\n\n\n \n\nPoppy Blowout Bar will be offering 50% off a pre-scheduled blowout for the night of the event! To schedule your discounted blowout for Ladies night click our booking link:\n\nhttps://na2.meevo.com/OnlineBookingApp/booking/guest-info?tenantId=500209&locationId=500295\n\n \n\nTo book a BOTOX or Xeomin filler appointment for our ladies night call ANEW Wellness Spa directly: (251) 278-2639\n\n \n\nTo pre-schedule your Natural Glow Co spray tan for ladies night click: https://naturalglowco.glossgenius.com/?fbclid=PAAaYbOK5xH7gJLaq7NmPIMWQ6tsqpd6X4xI4JVNr2Yco7I-h7JVHFrWZSWLc_aem_AYilRj_ZFkNQD71_GnYRT0JlIHd3e8itGtDUgTRjxrLD97Pf6FVGt3cFED7Dx6VR4ZM\n\n\n\n\n\n\n\n\nThere will be limited spaces for discounted blow-outs.\n\nCall Poppy to check availability\, (251) 423-6429. \n\n\n\nRegistration Required.
X-ALT-DESC;FMTTYPE=text/html:<p><span style="font-size:16px\;">Join us for a fun evening at Poppy Blowout Bar in Spanish Fort! Sip + Shop + Enjoy Light Refreshments at this open house Ladies Night!&nbsp\;<br />\n<br />\nPoppy Blowout Bar will have vendors for a FUN evening! Full details below:&nbsp\;<br />\n<br />\nWho will be there:&nbsp\;</span></p>\n\n<p>Magnolia Flower Truck</p>\n\n<p>Threaded Oyster</p>\n\n<p>Pink Velvet Boutique&nbsp\;</p>\n\n<p><br />\n&nbsp\;</p>\n\n<div dir="auto" style="border: 0px\; font-variant-numeric: inherit\; font-variant-east-asian: inherit\; font-variant-alternates: inherit\; font-stretch: inherit\; font-size: 15px\; line-height: inherit\; font-family: &quot\;Segoe UI&quot\;\, &quot\;Segoe UI Web (West European)&quot\;\, &quot\;Segoe UI&quot\;\, -apple-system\, &quot\;system-ui&quot\;\, Roboto\, &quot\;Helvetica Neue&quot\;\, sans-serif\; font-optical-sizing: inherit\; font-kerning: inherit\; font-feature-settings: inherit\; font-variation-settings: inherit\; margin: 0px\; padding: 0px\; vertical-align: baseline\; color: rgb(66\, 66\, 66)\;">Poppy Blowout Bar will be offering 50% off a pre-scheduled blowout for the night of the event! To schedule your discounted blowout for Ladies night click our booking link:</div>\n\n<div dir="auto" style="border: 0px\; font-variant-numeric: inherit\; font-variant-east-asian: inherit\; font-variant-alternates: inherit\; font-stretch: inherit\; font-size: 15px\; line-height: inherit\; font-family: &quot\;Segoe UI&quot\;\, &quot\;Segoe UI Web (West European)&quot\;\, &quot\;Segoe UI&quot\;\, -apple-system\, &quot\;system-ui&quot\;\, Roboto\, &quot\;Helvetica Neue&quot\;\, sans-serif\; font-optical-sizing: inherit\; font-kerning: inherit\; font-feature-settings: inherit\; font-variation-settings: inherit\; margin: 0px\; padding: 0px\; vertical-align: baseline\; color: rgb(66\, 66\, 66)\;"><span style="border: 0px\; font-style: inherit\; font-variant: inherit\; font-weight: inherit\; font-stretch: inherit\; font-size: 17px\; line-height: inherit\; font-family: inherit\; font-optical-sizing: inherit\; font-kerning: inherit\; font-feature-settings: inherit\; font-variation-settings: inherit\; margin: 0px\; padding: 0px\; vertical-align: baseline\; color: inherit\;"><a data-auth="NotApplicable" data-linkindex="1" href="https://linkprotect.cudasvc.com/url?a=https%3a%2f%2fna2.meevo.com%2fOnlineBookingApp%2fbooking%2fguest-info%3ftenantId%3d500209%26locationId%3d500295&amp\;c=E\,1\,1Z6Dot6deYpkYjjqBzrDABi9yrIdf8cWTI5mwYocLb73bBD-jkLbzig08hyP_LX8spdmeCtQMtQJ_rp4RDwzj8ZHBP4mfuO8sw-meD8RTsxP4s7bJxC_5D4B&amp\;typo=1" rel="noopener noreferrer" style="border: 0px\; font: inherit\; margin: 0px\; padding: 0px\; vertical-align: baseline\;" target="_blank">https://na2.meevo.com/OnlineBookingApp/booking/guest-info?tenantId=500209&amp\;locationId=500295</a></span></div>\n\n<div dir="auto" style="border: 0px\; font-variant-numeric: inherit\; font-variant-east-asian: inherit\; font-variant-alternates: inherit\; font-stretch: inherit\; font-size: 15px\; line-height: inherit\; font-family: &quot\;Segoe UI&quot\;\, &quot\;Segoe UI Web (West European)&quot\;\, &quot\;Segoe UI&quot\;\, -apple-system\, &quot\;system-ui&quot\;\, Roboto\, &quot\;Helvetica Neue&quot\;\, sans-serif\; font-optical-sizing: inherit\; font-kerning: inherit\; font-feature-settings: inherit\; font-variation-settings: inherit\; margin: 0px\; padding: 0px\; vertical-align: baseline\; color: rgb(66\, 66\, 66)\;">&nbsp\;</div>\n\n<div dir="auto" style="border: 0px\; font-variant-numeric: inherit\; font-variant-east-asian: inherit\; font-variant-alternates: inherit\; font-stretch: inherit\; font-size: 15px\; line-height: inherit\; font-family: &quot\;Segoe UI&quot\;\, &quot\;Segoe UI Web (West European)&quot\;\, &quot\;Segoe UI&quot\;\, -apple-system\, &quot\;system-ui&quot\;\, Roboto\, &quot\;Helvetica Neue&quot\;\, sans-serif\; font-optical-sizing: inherit\; font-kerning: inherit\; font-feature-settings: inherit\; font-variation-settings: inherit\; margin: 0px\; padding: 0px\; vertical-align: baseline\; color: rgb(66\, 66\, 66)\;">To book a BOTOX or Xeomin filler appointment for our ladies night call ANEW Wellness Spa directly:&nbsp\;<a data-dtype="d3ph" data-local-attribute="d3ph" data-ved="2ahUKEwjczfTH7YmBAxXKmYkEHaZjB2cQkAgoAHoECFIQAw" href="https://www.google.com/search?q=anew+wellness+spa&amp\;oq=anew+wellness+&amp\;aqs=chrome.0.0i512j69i57j0i512l3j46i175i199i512j0i22i30l4.4069j0j7&amp\;sourceid=chrome&amp\;ie=UTF-8#" jsaction="rcuQ6b:npT2md\;F75qrd" jscontroller="LWZElb" jsdata="QKGTRc\;_\;B50awI" style="color: rgb(26\, 13\, 171)\; -webkit-tap-highlight-color: rgba(0\, 0\, 0\, 0.1)\; outline: 0px\; font-family: Roboto\, arial\, sans-serif\; font-size: 14px\;"><span aria-label="Call Phone Number (251) 278-2639">(251) 278-2639</span></a></div>\n\n<div dir="auto" style="border: 0px\; font-variant-numeric: inherit\; font-variant-east-asian: inherit\; font-variant-alternates: inherit\; font-stretch: inherit\; font-size: 15px\; line-height: inherit\; font-family: &quot\;Segoe UI&quot\;\, &quot\;Segoe UI Web (West European)&quot\;\, &quot\;Segoe UI&quot\;\, -apple-system\, &quot\;system-ui&quot\;\, Roboto\, &quot\;Helvetica Neue&quot\;\, sans-serif\; font-optical-sizing: inherit\; font-kerning: inherit\; font-feature-settings: inherit\; font-variation-settings: inherit\; margin: 0px\; padding: 0px\; vertical-align: baseline\; color: rgb(66\, 66\, 66)\;">&nbsp\;</div>\n\n<div dir="auto" style="border: 0px\; font-variant-numeric: inherit\; font-variant-east-asian: inherit\; font-variant-alternates: inherit\; font-stretch: inherit\; font-size: 15px\; line-height: inherit\; font-family: &quot\;Segoe UI&quot\;\, &quot\;Segoe UI Web (West European)&quot\;\, &quot\;Segoe UI&quot\;\, -apple-system\, &quot\;system-ui&quot\;\, Roboto\, &quot\;Helvetica Neue&quot\;\, sans-serif\; font-optical-sizing: inherit\; font-kerning: inherit\; font-feature-settings: inherit\; font-variation-settings: inherit\; margin: 0px\; padding: 0px\; vertical-align: baseline\; color: rgb(66\, 66\, 66)\;">To pre-schedule your Natural Glow Co spray tan for ladies night click:&nbsp\;<a data-auth="NotApplicable" data-linkindex="0" href="https://naturalglowco.glossgenius.com/?fbclid=PAAaYbOK5xH7gJLaq7NmPIMWQ6tsqpd6X4xI4JVNr2Yco7I-h7JVHFrWZSWLc_aem_AYilRj_ZFkNQD71_GnYRT0JlIHd3e8itGtDUgTRjxrLD97Pf6FVGt3cFED7Dx6VR4ZM" id="LPlnk177224" rel="noopener noreferrer" style="border: 0px\; font-variant-numeric: inherit\; font-variant-east-asian: inherit\; font-variant-alternates: inherit\; font-stretch: inherit\; font-size: 15px\; line-height: inherit\; font-family: &quot\;Segoe UI&quot\;\, &quot\;Segoe UI Web (West European)&quot\;\, &quot\;Segoe UI&quot\;\, -apple-system\, &quot\;system-ui&quot\;\, Roboto\, &quot\;Helvetica Neue&quot\;\, sans-serif\; font-optical-sizing: inherit\; font-kerning: inherit\; font-feature-settings: inherit\; font-variation-settings: inherit\; margin: 0px\; padding: 0px\; vertical-align: baseline\; outline: 0px\;" target="_blank">https://naturalglowco.glossgenius.com/?fbclid=PAAaYbOK5xH7gJLaq7NmPIMWQ6tsqpd6X4xI4JVNr2Yco7I-h7JVHFrWZSWLc_aem_AYilRj_ZFkNQD71_GnYRT0JlIHd3e8itGtDUgTRjxrLD97Pf6FVGt3cFED7Dx6VR4ZM</a></div>\n<br />\n<br />\n<br />\n<br />\n<span style="font-size:16px\;"><span style="color: rgb(66\, 66\, 66)\; font-family: Calibri\, sans-serif\;">There will be limited spaces for discounted blow-outs.<br />\nCall&nbsp\;</span><span class="markkvi07ot43" data-markjs="true" data-ogab="" data-ogac="" data-ogsb="" data-ogsc="" style="border: 0px\; font-variant-numeric: inherit\; font-variant-east-asian: inherit\; font-variant-alternates: inherit\; font-stretch: inherit\; line-height: inherit\; font-family: Calibri\, sans-serif\; font-optical-sizing: inherit\; font-kerning: inherit\; font-feature-settings: inherit\; font-variation-settings: inherit\; margin: 0px\; padding: 0px\; vertical-align: baseline\; color: rgb(66\, 66\, 66)\;">Poppy&nbsp\;</span></span><span style="color: rgb(66\, 66\, 66)\; font-family: Calibri\, sans-serif\; font-size: 14.6667px\;"><span style="font-size:16px\;">to check availability\,&nbsp\;</span></span><a data-dtype="d3ph" data-local-attribute="d3ph" data-ved="2ahUKEwi8z-2f0M2AAxUUmokEHdVZB9UQkAgoAHoECDoQAw" href="https://www.google.com/search?q=poppy+blowout+bar&amp\;oq=poppy+blowout+bar&amp\;aqs=chrome.0.35i39i650j46i175i199i457i512j0i512j0i22i30l3j0i390i650j69i60.4923j0j4&amp\;sourceid=chrome&amp\;ie=UTF-8#" jsaction="rcuQ6b:npT2md\;F75qrd" jscontroller="LWZElb" jsdata="QKGTRc\;_\;CT59VM" style="color: rgb(26\, 13\, 171)\; -webkit-tap-highlight-color: rgba(0\, 0\, 0\, 0.1)\; outline: 0px\; font-family: Roboto\, arial\, sans-serif\; font-size: 14px\;"><span aria-label="Call Phone Number (251) 423-6429">(251) 423-6429</span></a>.&nbsp\;<br />\n<br />\n<span style="color: rgb(66\, 66\, 66)\; font-family: Calibri\, sans-serif\; font-size: 14.6667px\;"><em><strong><span style="font-size:16px\;">Registration Required.&nbsp\;</span></strong></em></span>
LOCATION:Poppy Blowout Bar 30500 AL-181 #220 Spanish Fort\, AL 36527
UID:e.1304.27988
SEQUENCE:3
DTSTAMP:20260422T014336Z
URL:http://easternshorechamber-gzcms.preview.gochambermaster.com/events/details/ladies-night-poppy-blowout-bar-27988
END:VEVENT

END:VCALENDAR
