BEGIN:VCALENDAR
VERSION:2.0
PRODID:-//ChamberMaster//Event Calendar 2.0//EN
METHOD:PUBLISH
X-PUBLISHED-TTL:P3D
REFRESH-INTERVAL:P3D
CALSCALE:GREGORIAN
BEGIN:VEVENT
DTSTART:20221004T230000Z
DTEND:20221005T000000Z
X-MICROSOFT-CDO-ALLDAYEVENT:FALSE
SUMMARY:Knee Pain Workshop with Dr. Matthew Barber\, Alabama Orthopedic Clinic (AOC)
DESCRIPTION:Having knee pain and discomfort that limits your ability to stay active or live a normal life? Come join us at the FREE Knee Pain Workshop to learn common causes of knee pain and dysfunction\, and effective strategies to minimize and often eliminate pain!
X-ALT-DESC;FMTTYPE=text/html:<span style="font-size:18px">Having knee pain and discomfort that limits your ability to stay active or live a normal life? Come join us at the FREE Knee Pain Workshop to learn common causes of knee pain and dysfunction\, and effective strategies to minimize and often eliminate pain!</span>
LOCATION:HealthActions Physical Therapy 27955 US 98 Suite XYZ (In the Publix Shopping Center) Daphne\, AL 36526 (251) 410-0620
UID:e.1304.26401
SEQUENCE:3
DTSTAMP:20260424T090529Z
URL:http://easternshorechamber-gzcms.preview.gochambermaster.com/events/details/knee-pain-workshop-with-dr-matthew-barber-alabama-orthopedic-clinic-aoc-26401
END:VEVENT

END:VCALENDAR
