BEGIN:VCALENDAR
VERSION:2.0
PRODID:-//ChamberMaster//Event Calendar 2.0//EN
METHOD:PUBLISH
X-PUBLISHED-TTL:P3D
REFRESH-INTERVAL:P3D
CALSCALE:GREGORIAN
BEGIN:VEVENT
DTSTART:20211212T203000Z
DTEND:20211212T213000Z
X-MICROSOFT-CDO-ALLDAYEVENT:FALSE
SUMMARY:Joy to the World - Holiday Concert
DESCRIPTION:Join us for the Gulf Coast's best holiday concert! We'll feature baritone Ricardo Jos  Rivera in some of your Christmas favorites. Featuring Silent Night   Sleigh Ride   Nutcracker   Handel's Messiah   Away in a Manager   O Tannenbaum   O Holy Night   Christmas Singalong   and more!
X-ALT-DESC;FMTTYPE=text/html:Join us for the Gulf Coast&rsquo\;s best holiday concert! We&#39\;ll feature baritone Ricardo Jos&eacute\; Rivera in some of your Christmas favorites. Featuring Silent Night &bull\; Sleigh Ride &bull\; Nutcracker &bull\; Handel&rsquo\;s Messiah &bull\; Away in a Manager &bull\; O Tannenbaum &bull\; O Holy Night &bull\; Christmas Singalong &bull\; and more!
LOCATION:Saenger Theater\, 6 S. Joachim Street\, Mobile\, AL 36602
UID:e.1304.22675
SEQUENCE:3
DTSTAMP:20260425T213924Z
URL:http://easternshorechamber-gzcms.preview.gochambermaster.com/events/details/joy-to-the-world-holiday-concert-12-12-2021-22675
END:VEVENT

END:VCALENDAR
