BEGIN:VCALENDAR
VERSION:2.0
PRODID:-//ChamberMaster//Event Calendar 2.0//EN
METHOD:PUBLISH
X-PUBLISHED-TTL:P3D
REFRESH-INTERVAL:P3D
CALSCALE:GREGORIAN
BEGIN:VEVENT
DTSTART:20231014T200000Z
DTEND:20231014T230000Z
X-MICROSOFT-CDO-ALLDAYEVENT:FALSE
SUMMARY:Howl-o-ween Dog Costume Contest
DESCRIPTION:Join us in Downtown OWA on Saturday\, October 14th\, for a spook-tacular Howl-o-Ween! This FREE event offers the chance for you and your furry friends to strut their stuff in our free dog costume contest\, trying for a chance to win a share of $425 in cash prizes across exciting categories such as Most Creative\, Best Team Costume\, Spookiest\, and Funniest costumes. In-person registration starts at 3PM\, but we recommend early online registration to ensure a howling good time!\n\nTo register your pup and to get more information\, go to: https://visitowa.com/howl-o-ween/.
X-ALT-DESC;FMTTYPE=text/html:<div>Join us in Downtown OWA on Saturday\, October 14th\, for a spook-tacular Howl-o-Ween! This FREE event offers the chance for you and your furry friends to strut their stuff in our free dog costume contest\, trying for a chance to win a share of $425 in cash prizes across exciting categories such as Most Creative\, Best Team Costume\, Spookiest\, and Funniest costumes. In-person registration starts at 3PM\, but we recommend early online registration to ensure a howling good time!</div>\n\n<div>To register your pup and to get more information\, go to:&nbsp\;<a class="x1i10hfl xjbqb8w x6umtig x1b1mbwd xaqea5y xav7gou x9f619 x1ypdohk xt0psk2 xe8uvvx xdj266r x11i5rnm xat24cr x1mh8g0r xexx8yu x4uap5 x18d9i69 xkhd6sd x16tdsg8 x1hl2dhg xggy1nq x1a2a7pz xt0b8zv x1fey0fg" href="https://visitowa.com/howl-o-ween/?fbclid=IwAR0bmaguS4dgp1popL_TNenNX3K9GrmnE39RZwV9GAarFPkKeBz9SHxrqiQ" rel="nofollow" style="color: var(--blue-link)\; cursor: pointer\; text-decoration-line: none\; border-width: 0px\; border-style: initial\; border-color: initial\; outline: none\; list-style: none\; margin: 0px\; text-align: inherit\; padding: 0px\; -webkit-tap-highlight-color: transparent\; box-sizing: border-box\; touch-action: manipulation\; background-color: transparent\; display: inline\; font-family: inherit\;" tabindex="0" target="_blank">https://visitowa.com/howl-o-ween/</a>.</div>\n
LOCATION:Downtown OWA
UID:e.1304.28025
SEQUENCE:3
DTSTAMP:20260421T204506Z
URL:http://easternshorechamber-gzcms.preview.gochambermaster.com/events/details/howl-o-ween-dog-costume-contest-10-14-2023-28025
END:VEVENT

END:VCALENDAR
