BEGIN:VCALENDAR
VERSION:2.0
PRODID:-//ChamberMaster//Event Calendar 2.0//EN
METHOD:PUBLISH
X-PUBLISHED-TTL:P3D
REFRESH-INTERVAL:P3D
CALSCALE:GREGORIAN
BEGIN:VEVENT
DTSTART:20221023T010000Z
DTEND:20221023T030000Z
X-MICROSOFT-CDO-ALLDAYEVENT:FALSE
SUMMARY:Halloween 4D Movie Nights
DESCRIPTION:OWA Theater proudly presents Halloween 4D Movie Nights on Saturdays in October beginning Oct. 8. This 4-D experience will have you leaping out of your chair in fright as you watch your favorite classic horror movies with fog\, lights and your favorite horror villains in person! This $5 ticket is a scary-good deal!\n\nComing with friends or family? Purchase a 4-pack of tickets for only $15! Use the code 4PACK at checkout!
X-ALT-DESC;FMTTYPE=text/html:<span style="font-family:calibri\,sans-serif"><span style="font-size:11.0pt">OWA Theater proudly presents <em>Halloween 4D Movie Nights</em> on Saturdays in October beginning Oct. 8. This 4-D experience will have you leaping out of your chair in fright as you watch your favorite classic horror movies with fog\, lights and your favorite horror villains in person! This <strong>$5 ticket</strong> is a scary-good deal!<br />\nComing with friends or family? Purchase a 4-pack of tickets for <strong>only $15! </strong>Use the code 4PACK at checkout!</span></span><br />\n&nbsp\;
LOCATION:OWA Theater
UID:e.1304.26430
SEQUENCE:3
DTSTAMP:20260424T120258Z
URL:http://easternshorechamber-gzcms.preview.gochambermaster.com/events/details/halloween-4d-movie-nights-10-22-2022-26430
END:VEVENT

END:VCALENDAR
