BEGIN:VCALENDAR
VERSION:2.0
PRODID:-//ChamberMaster//Event Calendar 2.0//EN
METHOD:PUBLISH
X-PUBLISHED-TTL:P3D
REFRESH-INTERVAL:P3D
CALSCALE:GREGORIAN
BEGIN:VEVENT
DTSTART:20230919T183000Z
DTEND:20230919T200000Z
X-MICROSOFT-CDO-ALLDAYEVENT:FALSE
SUMMARY:Grand Opening/Open House: Solace Massage Therapy
DESCRIPTION:Grand Opening/Open House: Solace Massage Therapy
X-ALT-DESC;FMTTYPE=text/html:Grand Opening/Open House: Solace Massage Therapy
LOCATION:9949 Bellaton Ave Suite B Daphne\, AL 36526
UID:e.1304.28059
SEQUENCE:3
DTSTAMP:20260422T014215Z
URL:http://easternshorechamber-gzcms.preview.gochambermaster.com/events/details/grand-opening-open-house-solace-massage-therapy-28059
END:VEVENT

END:VCALENDAR
