BEGIN:VCALENDAR
VERSION:2.0
PRODID:-//ChamberMaster//Event Calendar 2.0//EN
METHOD:PUBLISH
X-PUBLISHED-TTL:P3D
REFRESH-INTERVAL:P3D
CALSCALE:GREGORIAN
BEGIN:VEVENT
DTSTART:20240627T213000Z
DTEND:20240628T013000Z
X-MICROSOFT-CDO-ALLDAYEVENT:FALSE
SUMMARY:Girls’ Night Out at Belforest Pointe
DESCRIPTION:Bay Area Events' next major event is Girls' Night Out at Belforest Pointe. This will be our biggest event of the season attracting women across Baldwin and Mobile Counties. We invite you to partner with us as a Sponsor to contribute to this one-of-a-kind event to support our community. Bay Area Events was founded with the mission to bring the community together through experiences. We give local small businesses\, organizations\, and nonprofits the opportunity to present themselves to the community in a fun and engaging environment. The Lighthouse is one of the nonprofits that will be supported during this event. Through a silent auction and raffle\, we hope to raise funds to contribute to their incredible cause. The mission of The Lighthouse is the elimination of family violence and sexual assault through education\, intervention\, services\, and collaboration with the community. A portion of ticket sales will also be donated to The Haven\, a nonprofit\, no-kill shelter providing love and medical care to abused and neglected homeless pets until adopted. To further enjoy the evening we will have live entertainment by Johnny Hayes\, Botox services by Dr. Corbett with Baldwin GYN & Aesthetics\, sips by Bottles Up Mobile\, Caricatures by Kathy\, photo booths by 360 Live Mobile\, food trucks\, and several local small businesses to shop from! VIP Tickets will enjoy a free VIP Swag Bag filled with items from local small businesses and include a voucher for our evening's signature drink. Don't miss out on this MUST ATTEND event for women across the Gulf Coast! Tickets may be purchased here: https://www.eventbrite.com/e/804109632557?aff=oddtdtcreator
X-ALT-DESC;FMTTYPE=text/html:Bay Area Events&rsquo\; next major event is Girls&rsquo\; Night Out at Belforest Pointe. This will be our biggest event of the season attracting women across Baldwin and Mobile Counties. We invite you to partner with us as a Sponsor to contribute to this one-of-a-kind event to support our community. Bay Area Events was founded with the mission to bring the community together through experiences. We give local small businesses\, organizations\, and nonprofits the opportunity to present themselves to the community in a fun and engaging environment. The Lighthouse&nbsp\;is one of the nonprofits that will be supported during this event. Through a silent auction and raffle\, we hope to raise funds to contribute to their incredible cause. The mission of&nbsp\;The Lighthouse&nbsp\;is the elimination of family violence and sexual assault through education\, intervention\, services\, and collaboration with the community. A portion of ticket sales will also be donated to&nbsp\;The Haven\, a nonprofit\, no-kill shelter providing love and medical care to abused and neglected homeless pets until adopted. To further enjoy the evening we will have live entertainment by Johnny Hayes\, Botox services by Dr. Corbett with Baldwin GYN &amp\; Aesthetics\, sips by Bottles Up Mobile\, Caricatures by Kathy\, photo booths by 360 Live Mobile\, food trucks\, and several local small businesses to shop from! VIP Tickets will enjoy a free VIP Swag Bag filled with items from local small businesses and include a voucher for our evening&#39\;s signature drink. Don&#39\;t miss out on this MUST ATTEND event for women across the Gulf Coast! Tickets may be purchased here: https://www.eventbrite.com/e/804109632557?aff=oddtdtcreator
LOCATION:Belforest Pointe\, 26503 AL-181\, Daphne\, AL 36526
UID:e.1304.31400
SEQUENCE:3
DTSTAMP:20260420T034933Z
URL:http://easternshorechamber-gzcms.preview.gochambermaster.com/events/details/girls-night-out-at-belforest-pointe-31400
END:VEVENT

END:VCALENDAR
